BEGIN:VCALENDAR
VERSION:2.0
PRODID:-//ChamberMaster//Event Calendar 2.0//EN
METHOD:PUBLISH
X-PUBLISHED-TTL:P3D
REFRESH-INTERVAL:P3D
CALSCALE:GREGORIAN
BEGIN:VEVENT
DTSTART:20180915T140000Z
DTEND:20180915T150000Z
X-MICROSOFT-CDO-ALLDAYEVENT:FALSE
SUMMARY:Floral & Hardy Fall Container Workshop II
DESCRIPTION:Create your own colorful seasonal display during this fun workshop!  We'll help you design a fall container using mums\, asters\, peppers\, and grasses.  Add mini pumpkins and fall decorations for a festive look.  Cost is $45 (large) and $35 (small).  Additional decorations are extra.\n\n \n\nPlease RSVP: http://floralandhardyofskippack.com/events/281/fall-container-workshop-ii/
X-ALT-DESC;FMTTYPE=text/html:<div style="text-align:justify"><span style="background-color:transparent\; color:rgb(0\, 0\, 0)\; font-family:georgia\,palatino\,serif\; font-size:16px">Create your own colorful seasonal display during this fun workshop!&nbsp\; We&rsquo\;ll help you design a fall container using mums\, asters\, peppers\, and grasses.&nbsp\; Add mini pumpkins and fall decorations for a festive look.&nbsp\; Cost is $45 (large) and $35 (small).&nbsp\; Additional decorations are extra.</span><br />\n&nbsp\;</div>\n\n<div><span style="background-color:transparent\; color:rgb(0\, 0\, 0)\; font-family:georgia\,palatino\,serif\; font-size:16px">Please RSVP:&nbsp\;<a href="http://floralandhardyofskippack.com/events/281/fall-container-workshop-ii/">http://floralandhardyofskippack.com/events/281/fall-container-workshop-ii/</a></span></div>\n
LOCATION:Floral & Hardy 4007 Skippack Pike Skippack\, PA 19474
UID:e.2385.7857
SEQUENCE:3
DTSTAMP:20260422T013054Z
URL:https://business.chambergmc.org/events/details/floral-hardy-fall-container-workshop-ii-7857
END:VEVENT

END:VCALENDAR
