BEGIN:VCALENDAR
VERSION:2.0
PRODID:-//ChamberMaster//Event Calendar 2.0//EN
METHOD:PUBLISH
X-PUBLISHED-TTL:P3D
REFRESH-INTERVAL:P3D
CALSCALE:GREGORIAN
BEGIN:VEVENT
DTSTART:20180613T223000Z
DTEND:20180613T233000Z
X-MICROSOFT-CDO-ALLDAYEVENT:FALSE
SUMMARY:Floral & Hardy - Fall Time Garden Blooms and Colors
DESCRIPTION:Extend your garden's interest into early Fall!  Join us for this FREE wine & cheese class to learn about how to add color to your fall landscape.  We'll give you suggestions for using fall flowering perennials and plants with color changing leaves.  Presentation will be given by Penn State Master Gardener\, Thom Mrazik.\n\nPlease RSVP: http://floralandhardyofskippack.com/events/267/fall-time-garden-blooms-and-colors/
X-ALT-DESC;FMTTYPE=text/html:<span style="background-color:transparent\; color:rgb(0\, 0\, 0)\; font-family:lora\,times new roman\,times\,serif\; font-size:13px">Extend your garden&rsquo\;s interest into early Fall!&nbsp\; Join us for this FREE wine &amp\; cheese class to learn about how to add color to your fall landscape.&nbsp\; We&rsquo\;ll give you suggestions for using fall flowering perennials and plants with color changing leaves.&nbsp\; Presentation will be given by Penn State Master Gardener\, Thom Mrazik.<br />\nPlease RSVP:&nbsp\;<a href="http://floralandhardyofskippack.com/events/267/fall-time-garden-blooms-and-colors/">http://floralandhardyofskippack.com/events/267/fall-time-garden-blooms-and-colors/</a></span>
LOCATION:Floral & Hardy 4007 Skippack Pike Skippack\, PA 19474
UID:e.2385.6680
SEQUENCE:3
DTSTAMP:20260421T202238Z
URL:https://business.chambergmc.org/events/details/floral-hardy-fall-time-garden-blooms-and-colors-6680
END:VEVENT

END:VCALENDAR
