BEGIN:VCALENDAR
VERSION:2.0
PRODID:-//ChamberMaster//Event Calendar 2.0//EN
METHOD:PUBLISH
X-PUBLISHED-TTL:P3D
REFRESH-INTERVAL:P3D
CALSCALE:GREGORIAN
BEGIN:VEVENT
DTSTART:20181020T140000Z
DTEND:20181020T190000Z
X-MICROSOFT-CDO-ALLDAYEVENT:FALSE
SUMMARY:Floral & Hardy Family Day
DESCRIPTION:Join us for our 9th annual Family Day!  We'll have lots of fun activities including a free kids concert and face painting (10:30 a.m. to 12:30 p.m.)  Enjoy our complimentary root beer floats and get creative with pumpkin painting (10 a.m. to 3 p.m.).  Come see our new fall items   pumpkins\, mums\, home/yard d cor and much more  Bring the gang and sing-along!\n\nPlease RSVP: \nhttp://floralandhardyofskippack.com/events/297/family-day/
X-ALT-DESC;FMTTYPE=text/html:<div style="text-align: justify\;"><span style="background-color:transparent\; color:rgb(0\, 0\, 0)\; font-family:arial\,helvetica\,sans-serif\; font-size:16px">Join us for our 9th annual Family Day!&nbsp\;&nbsp\;We&rsquo\;ll have lots of fun activities including a free kids concert and face painting (10:30 a.m. to 12:30 p.m.)&nbsp\; Enjoy our complimentary root beer floats and get creative with pumpkin painting (10 a.m. to 3 p.m.).&nbsp\; Come see our new fall items &ndash\; pumpkins\, mums\, home/yard d&eacute\;cor and much more&hellip\; Bring the gang and sing-along!</span></div>\n\n<div><span style="background-color:transparent\; color:rgb(0\, 0\, 0)\; font-family:arial\,helvetica\,sans-serif\; font-size:16px">Please RSVP:&nbsp\;</span></div>\n<span style="background-color:transparent\; color:rgb(0\, 0\, 0)\; font-family:arial\,helvetica\,sans-serif\; font-size:16px"><a href="http://floralandhardyofskippack.com/events/297/family-day/">http://floralandhardyofskippack.com/events/297/family-day/</a></span>
LOCATION:Floral & Hardy 4007 Skippack Pike Skippack\, PA 19474
UID:e.2385.7993
SEQUENCE:3
DTSTAMP:20260422T014714Z
URL:https://business.chambergmc.org/events/details/floral-hardy-family-day-7993
END:VEVENT

END:VCALENDAR
