BEGIN:VCALENDAR
VERSION:2.0
PRODID:-//ChamberMaster//Event Calendar 2.0//EN
METHOD:PUBLISH
X-PUBLISHED-TTL:P3D
REFRESH-INTERVAL:P3D
CALSCALE:GREGORIAN
BEGIN:VEVENT
DTSTART:20190906T233000Z
DTEND:20190907T010000Z
X-MICROSOFT-CDO-ALLDAYEVENT:FALSE
SUMMARY:Floral & Hardy Family Movie Night
DESCRIPTION:Join us for our first FAMILY MOVIE NIGHT!  We'll be showing the "Bee Movie" (rated PG) in our new garden area at 7:30 p.m.  FREE movie\, popcorn and soft drinks!! Bring your own chair and get comfy while enjoying our outdoor screen event.  Kids can wear their pajamas if they like!  Come early to browse around and check out our new fall arrivals.  Rain date is 9/13/19. \n\n\nPlease RSVP: \n\nhttps://floralandhardyofskippack.com/events/family-movie-night/
X-ALT-DESC;FMTTYPE=text/html:<div style="text-align: justify\;"><span style="background-color:rgb(252\, 249\, 244)\; color:rgb(0\, 0\, 0)\; font-family:arial\,helvetica\,sans-serif">Join us for our first FAMILY MOVIE NIGHT!&nbsp\; We&rsquo\;ll be showing the &ldquo\;Bee Movie&rdquo\; (rated PG) in our new garden area at 7:30 p.m.&nbsp\; FREE movie\, popcorn and soft drinks!! Bring your own chair and get comfy while enjoying our outdoor screen event.&nbsp\; Kids can wear their pajamas if they like!&nbsp\; Come early to browse around and check out our new fall arrivals.&nbsp\; Rain date is 9/13/19. </span></div>\n<br />\n<span style="background-color:rgb(252\, 249\, 244)\; color:rgb(0\, 0\, 0)\; font-family:arial\,helvetica\,sans-serif">Please RSVP:&nbsp\;<br />\n<a href="https://floralandhardyofskippack.com/events/family-movie-night/">https://floralandhardyofskippack.com/events/family-movie-night/</a></span>
LOCATION:Floral & Hardy 4007 Skippack Pike Skippack\, PA 19474
UID:e.2385.10060
SEQUENCE:3
DTSTAMP:20260423T195200Z
URL:https://business.chambergmc.org/events/details/floral-hardy-family-movie-night-10060
END:VEVENT

END:VCALENDAR
