BEGIN:VCALENDAR
VERSION:2.0
PRODID:-//ChamberMaster//Event Calendar 2.0//EN
METHOD:PUBLISH
X-PUBLISHED-TTL:P3D
REFRESH-INTERVAL:P3D
CALSCALE:GREGORIAN
BEGIN:VEVENT
DTSTART:20180516T223000Z
DTEND:20180516T233000Z
X-MICROSOFT-CDO-ALLDAYEVENT:FALSE
SUMMARY:Floral & Hardy - Ferns: Fabulous\, Feathery\, Fanicful Finery
DESCRIPTION:Join us for this FREE wine & cheese class to learn all about ferns   fascinating\, feathery\, finery for your garden.  We'll cover fern history\, using ferns in the garden\, and where to see ferns in public gardens located in the greater Delaware Valley.  Presentation will be given by Penn State Master Gardener\, Kathy Klein. \n\n\nPlease RSVP: http://floralandhardyofskippack.com/events/238/fabulous-ferns/
X-ALT-DESC;FMTTYPE=text/html:<div style="text-align:justify"><span style="background-color:transparent\; color:rgb(0\, 0\, 0)\; font-family:lora\,times new roman\,times\,serif\; font-size:13px">Join us for this FREE wine &amp\; cheese class to learn all about ferns &ndash\; fascinating\, feathery\, finery for your garden.&nbsp\; We&rsquo\;ll cover fern history\, using ferns in the garden\, and where to see ferns in public gardens located in the greater Delaware Valley.&nbsp\; Presentation will be given by Penn State Master Gardener\, Kathy Klein.&nbsp\;</span></div>\n<br />\n<span style="background-color:transparent\; color:rgb(0\, 0\, 0)\; font-family:lora\,times new roman\,times\,serif\; font-size:13px">Please RSVP:&nbsp\;<a href="http://floralandhardyofskippack.com/events/238/fabulous-ferns/">http://floralandhardyofskippack.com/events/238/fabulous-ferns/</a></span>
LOCATION:Floral & Hardy 4007 Skippack Pike Skippack\, PA 19474
UID:e.2385.3258
SEQUENCE:3
DTSTAMP:20260421T191241Z
URL:https://business.chambergmc.org/events/details/floral-hardy-ferns-fabulous-feathery-fanicful-finery-05-16-2018-3258
END:VEVENT

END:VCALENDAR
