BEGIN:VCALENDAR
VERSION:2.0
PRODID:-//ChamberMaster//Event Calendar 2.0//EN
METHOD:PUBLISH
X-PUBLISHED-TTL:P3D
REFRESH-INTERVAL:P3D
CALSCALE:GREGORIAN
BEGIN:VEVENT
DTSTART:20190604T223000Z
DTEND:20190604T233000Z
X-MICROSOFT-CDO-ALLDAYEVENT:FALSE
SUMMARY:Floral & Hardy Flowering Shrubs with Long Season Interest
DESCRIPTION:Join us for this free wine & cheese class about shrubs with multi-season interest.  Many flowering shrubs display ornamental interest for more than one season\, including colorful leaves\, sepals\, foliage\, fragrance\, attractive stems/bark and fruit.  Learn how to choose shrubs to keep your home garden beautiful even longer!  Presentation will be give by Penn State Cooperative Extension Master Gardener\, Thom Mrazik. \n\n\nPlease RSVP: https://floralandhardyofskippack.com/events/flowering-shrubs-with-long-season-of-interest/
X-ALT-DESC;FMTTYPE=text/html:<div style="text-align: justify\;"><span style="background-color:transparent\; color:rgb(0\, 0\, 0)\; font-family:arial\,helvetica\,sans-serif\; font-size:13px">Join us for this free wine &amp\; cheese class about shrubs with multi-season interest.&nbsp\; Many flowering shrubs display ornamental interest for more than one season\, including colorful leaves\, sepals\, foliage\, fragrance\, attractive stems/bark and fruit.&nbsp\; Learn how to choose shrubs to keep your home garden beautiful even longer!&nbsp\; Presentation will be give by Penn State Cooperative Extension Master Gardener\, Thom Mrazik. </span></div>\n<br />\n<span style="background-color:transparent\; color:rgb(0\, 0\, 0)\; font-family:arial\,helvetica\,sans-serif\; font-size:13px">Please RSVP:&nbsp\;<a href="https://floralandhardyofskippack.com/events/flowering-shrubs-with-long-season-of-interest/">https://floralandhardyofskippack.com/events/flowering-shrubs-with-long-season-of-interest/</a></span>
LOCATION:Floral & Hardy 4007 Skippack Pike Skippack\, PA 19474
UID:e.2385.8747
SEQUENCE:3
DTSTAMP:20260422T124256Z
URL:https://business.chambergmc.org/events/details/floral-hardy-flowering-shrubs-with-long-season-interest-8747
END:VEVENT

END:VCALENDAR
