BEGIN:VCALENDAR
VERSION:2.0
PRODID:-//ChamberMaster//Event Calendar 2.0//EN
METHOD:PUBLISH
X-PUBLISHED-TTL:P3D
REFRESH-INTERVAL:P3D
CALSCALE:GREGORIAN
BEGIN:VEVENT
DTSTART:20180619T220000Z
DTEND:20180620T000000Z
X-MICROSOFT-CDO-ALLDAYEVENT:FALSE
SUMMARY:Floral & Hardy Garden Tour
DESCRIPTION:Join us for a tour of the Perennial Diva's beautiful gardens!  Meet us at F&H at 6:00 p.m. and we'll carpool to Stephanie Cohen's house.  Our caravan will leave promptly at 6:20 p.m.  Stephanie is requesting a donation of $5 per person for the Camden Children's Garden.\n\nThis is Stephanie's last public tour!  Sign up now to claim your spot: http://floralandhardyofskippack.com/events/271/garden-tour/
X-ALT-DESC;FMTTYPE=text/html:<p style="margin-left:0px\; margin-right:0px\; text-align:justify">Join us for a tour of the Perennial Diva&rsquo\;s beautiful gardens!&nbsp\; Meet us at F&amp\;H at 6:00 p.m. and we&rsquo\;ll carpool to Stephanie Cohen&rsquo\;s house.&nbsp\; Our caravan will leave promptly at 6:20 p.m.&nbsp\; Stephanie is requesting a donation of $5 per person for the Camden Children&rsquo\;s Garden.</p>\n\n<p style="margin-right: 0px\; margin-left: 0px\;">This is Stephanie&rsquo\;s last public tour!&nbsp\; Sign up now to claim your spot:&nbsp\;<a href="http://floralandhardyofskippack.com/events/271/garden-tour/">http://floralandhardyofskippack.com/events/271/garden-tour/</a></p>\n
LOCATION:Floral & Hardy 4007 Skippack Pike Skippack\, PA 19474
UID:e.2385.7701
SEQUENCE:3
DTSTAMP:20260421T214439Z
URL:https://business.chambergmc.org/events/details/floral-hardy-garden-tour-7701
END:VEVENT

END:VCALENDAR
