BEGIN:VCALENDAR
VERSION:2.0
PRODID:-//ChamberMaster//Event Calendar 2.0//EN
METHOD:PUBLISH
X-PUBLISHED-TTL:P3D
REFRESH-INTERVAL:P3D
CALSCALE:GREGORIAN
BEGIN:VEVENT
DTSTART:20180404T223000Z
DTEND:20180404T233000Z
X-MICROSOFT-CDO-ALLDAYEVENT:FALSE
SUMMARY:Floral & Hardy - Gardening 101
DESCRIPTION:Learn the basics of gardening at this FREE wine & cheese class.  We'll explore various types of plants and their individual needs.  You'll learn how to select the right plants for different locations and much more.  Bring your questions and get ready for this years gardening season!  Presentation will be given by Penn State Master Gardener\, Christine Sinotte.\n\n\n\nPlease RSVP: http://floralandhardyofskippack.com/events/221/gardening-101/
X-ALT-DESC;FMTTYPE=text/html:<div style="text-align:justify"><span style="background-color:transparent\; color:rgb(0\, 0\, 0)\; font-family:lora\,times new roman\,times\,serif\; font-size:13px">Learn the basics of gardening at this FREE wine &amp\; cheese class. &nbsp\;We&rsquo\;ll explore various types of plants and their individual needs.&nbsp\; You&rsquo\;ll learn how to select the right plants for different locations and much more.&nbsp\; Bring your questions and get ready for this years gardening season!&nbsp\; Presentation will be given by Penn State Master Gardener\, Christine Sinotte.<br />\n<br />\nPlease RSVP:&nbsp\;<a href="http://floralandhardyofskippack.com/events/221/gardening-101/">http://floralandhardyofskippack.com/events/221/gardening-101/</a></span></div>\n
LOCATION:Floral & Hardy 4007 Skippack Pike Skippack\, PA 19474
UID:e.2385.3046
SEQUENCE:3
DTSTAMP:20260421T174737Z
URL:https://business.chambergmc.org/events/details/floral-hardy-gardening-101-04-04-2018-3046
END:VEVENT

END:VCALENDAR
