BEGIN:VCALENDAR
VERSION:2.0
PRODID:-//ChamberMaster//Event Calendar 2.0//EN
METHOD:PUBLISH
X-PUBLISHED-TTL:P3D
REFRESH-INTERVAL:P3D
CALSCALE:GREGORIAN
BEGIN:VEVENT
DTSTART:20180627T223000Z
DTEND:20180627T233000Z
X-MICROSOFT-CDO-ALLDAYEVENT:FALSE
SUMMARY:Floral & Hardy - Gardening with Hummingbirds
DESCRIPTION:Hummingbirds are a backyard favorite!  Learn more about these small\, fast and colorful birds at our free wine and cheese event.  We'll share some ways to attract hummingbirds to your garden by planting the flowers that they prefer.  Find out some facts about their intriguing habits and how to keep them coming back to your yard.  Presentation will be given by Penn State Master Gardener\, Leslie Bass.\n\n\nPlease RSVP: http://floralandhardyofskippack.com/events/255/gardening-with-hummingbirds/
X-ALT-DESC;FMTTYPE=text/html:<div style="text-align: justify\;"><span style="background-color:transparent\; color:rgb(0\, 0\, 0)\; font-family:lora\,times new roman\,times\,serif\; font-size:13px"><span style="font-size:12px"><span style="font-family:arial\,helvetica\,sans-serif">Hummingbirds are a backyard favorite!&nbsp\; Learn more about these&nbsp\;small\, fast&nbsp\;and&nbsp\;colorful birds at our free wine&nbsp\;and cheese event.&nbsp\; We&rsquo\;ll share some ways to attract&nbsp\;hummingbirds to your garden by planting the flowers that they&nbsp\;prefer.&nbsp\; Find out some facts&nbsp\;about their intriguing habits and&nbsp\;how to keep them coming back to your yard.&nbsp\; Presentation will be given by Penn State Master Gardener\, Leslie Bass.</span></span></span></div>\n<br />\n<span style="font-size:12px"><span style="font-family:arial\,helvetica\,sans-serif"><span style="background-color:transparent\; color:rgb(0\, 0\, 0)">Please RSVP:&nbsp\;<a href="http://floralandhardyofskippack.com/events/255/gardening-with-hummingbirds/">http://floralandhardyofskippack.com/events/255/gardening-with-hummingbirds/</a></span></span></span>
LOCATION:Floral & Hardy 4007 Skippack Pike Skippack\, PA 19474
UID:e.2385.5312
SEQUENCE:3
DTSTAMP:20260421T202336Z
URL:https://business.chambergmc.org/events/details/floral-hardy-gardening-with-hummingbirds-06-27-2018-5312
END:VEVENT

END:VCALENDAR
