BEGIN:VCALENDAR
VERSION:2.0
PRODID:-//ChamberMaster//Event Calendar 2.0//EN
METHOD:PUBLISH
X-PUBLISHED-TTL:P3D
REFRESH-INTERVAL:P3D
CALSCALE:GREGORIAN
BEGIN:VEVENT
DTSTART:20180510T223000Z
DTEND:20180510T233000Z
X-MICROSOFT-CDO-ALLDAYEVENT:FALSE
SUMMARY:Floral & Hardy - Herb Container Gardening Workshop
DESCRIPTION:Create your own herb container garden at this fun workshop.  Enjoy fresh herbs throughout the growing season   great for cooking!  We'll help you select your herbs and give you tips about mixing and matching them.  Herb plants\, soil and container will be provided.  Cost is $35.\n\n\n\nPlease RSVP: http://floralandhardyofskippack.com/events/247/herb-container-gardening-workshop/
X-ALT-DESC;FMTTYPE=text/html:<span style="background-color:transparent\; color:rgb(0\, 0\, 0)\; font-family:lora\,times new roman\,times\,serif\; font-size:13px">Create your own herb container garden at this fun workshop.&nbsp\; Enjoy fresh herbs throughout the growing season &ndash\; great for cooking!&nbsp\; We&rsquo\;ll help you select your herbs and give you tips about mixing and matching them.&nbsp\; Herb plants\, soil and container will be provided.&nbsp\; Cost is $35.<br />\n<br />\nPlease RSVP:&nbsp\;<a href="http://floralandhardyofskippack.com/events/247/herb-container-gardening-workshop/">http://floralandhardyofskippack.com/events/247/herb-container-gardening-workshop/</a></span>
LOCATION:Floral & Hardy 4007 Skippack Pike Skippack\, PA 19474
UID:e.2385.3279
SEQUENCE:3
DTSTAMP:20260421T190450Z
URL:https://business.chambergmc.org/events/details/floral-hardy-herb-container-gardening-workshop-05-10-2018-3279
END:VEVENT

END:VCALENDAR
