BEGIN:VCALENDAR
VERSION:2.0
PRODID:-//ChamberMaster//Event Calendar 2.0//EN
METHOD:PUBLISH
X-PUBLISHED-TTL:P3D
REFRESH-INTERVAL:P3D
CALSCALE:GREGORIAN
BEGIN:VEVENT
DTSTART:20200130T233000Z
DTEND:20200131T003000Z
X-MICROSOFT-CDO-ALLDAYEVENT:FALSE
SUMMARY:Floral & Hardy Houseplants 101 Workshop
DESCRIPTION:Join us for this new wine & cheese houseplant workshop! Find out all you need to know about houseplants to make them thrive!!  You'll learn tips for their general care including\, watering\, feeding\, transplanting and light requirements. We'll also cover the different types of houseplants and how to keep them safe from pests and disease. Plant a houseplant in a pot to take home after the class (included in fee).  Bring your questions!!  Cost is $35 plus tax.\n\n\n\nPlease RSVP: \n\nhttps://floralandhardyofskippack.com/events/houseplants-101-workshop/
X-ALT-DESC;FMTTYPE=text/html:<div style="text-align: justify\;"><span style="color:rgb(71\, 71\, 71)\; font-family:arial\,helvetica\,sans-serif\; font-size:14px">Join us for this new wine &amp\; cheese houseplant workshop! Find out all you need to know about houseplants to make them thrive!!&nbsp\; You&rsquo\;ll learn tips for their general care including\, watering\, feeding\, transplanting and light requirements. We&rsquo\;ll also cover the different types of houseplants and how to keep them safe from pests and disease. Plant a houseplant in a pot to take home after the class (included in fee).&nbsp\; Bring your questions!!&nbsp\; Cost is $35 plus tax.<br />\n<br />\nPlease RSVP:&nbsp\;<br />\n<a href="https://floralandhardyofskippack.com/events/houseplants-101-workshop/">https://floralandhardyofskippack.com/events/houseplants-101-workshop/</a></span></div>\n
LOCATION:Floral & Hardy 4007 Skippack Pike Skippack\, PA 19474
UID:e.2385.10215
SEQUENCE:3
DTSTAMP:20260423T145000Z
URL:https://business.chambergmc.org/events/details/floral-hardy-houseplants-101-workshop-10215
END:VEVENT

END:VCALENDAR
