BEGIN:VCALENDAR
VERSION:2.0
PRODID:-//ChamberMaster//Event Calendar 2.0//EN
METHOD:PUBLISH
X-PUBLISHED-TTL:P3D
REFRESH-INTERVAL:P3D
CALSCALE:GREGORIAN
BEGIN:VEVENT
DTSTART:20180406T223000Z
DTEND:20180407T003000Z
X-MICROSOFT-CDO-ALLDAYEVENT:FALSE
SUMMARY:Floral & Hardy - India Hicks Ladies Night
DESCRIPTION:Join us for a FREE Wine & Cheese Ladies Night during this special "First Friday" event.  Learn about India Hicks exclusive\, unique line of high quality accessories and gifts PLUS her newest organic line of beauty products.  India Hicks is a spirited lifestyle brand inspired by India's British heritage and her island story.  Find out more while you sip\, shop and socialize. \n\n\n\nPlease RSVP: http://floralandhardyofskippack.com/events/225/india-hicks-ladies-night/
X-ALT-DESC;FMTTYPE=text/html:<div style="text-align:justify"><span style="background-color:transparent\; color:rgb(0\, 0\, 0)\; font-family:lora\,times new roman\,times\,serif\; font-size:13px">Join us for a FREE Wine &amp\; Cheese Ladies Night during this special &ldquo\;First Friday&rdquo\; event.&nbsp\; Learn about India Hicks exclusive\, unique line of high quality accessories and gifts PLUS her newest organic line of beauty products.&nbsp\; India Hicks is a spirited lifestyle brand inspired by India&rsquo\;s British heritage and her island story.&nbsp\; Find out more while you sip\, shop and socialize.&nbsp\;</span></div>\n\n<div><br />\n<span style="background-color:transparent\; color:rgb(0\, 0\, 0)\; font-family:lora\,times new roman\,times\,serif\; font-size:13px">Please RSVP:&nbsp\;<a href="http://floralandhardyofskippack.com/events/225/india-hicks-ladies-night/">http://floralandhardyofskippack.com/events/225/india-hicks-ladies-night/</a></span></div>\n
LOCATION:Floral & Hardy 4007 Skippack Pike Skippack\, PA 19474
UID:e.2385.3047
SEQUENCE:3
DTSTAMP:20260421T175013Z
URL:https://business.chambergmc.org/events/details/floral-hardy-india-hicks-ladies-night-04-06-2018-3047
END:VEVENT

END:VCALENDAR
