BEGIN:VCALENDAR
VERSION:2.0
PRODID:-//ChamberMaster//Event Calendar 2.0//EN
METHOD:PUBLISH
X-PUBLISHED-TTL:P3D
REFRESH-INTERVAL:P3D
CALSCALE:GREGORIAN
BEGIN:VEVENT
DTSTART:20180728T140000Z
DTEND:20180728T150000Z
X-MICROSOFT-CDO-ALLDAYEVENT:FALSE
SUMMARY:Floral & Hardy Kids Animal Pot Workshop
DESCRIPTION:Looking for a summer kids activity?  Join us for this fun workshop where we combine art with gardening.  We'll help your kids paint their favorite animal theme on a 6 " flower pot!  They can then finish off their design by adding a colorful plant.  Cost is $10.  Bring a smock or old t-shirt to wear.\n\n \n\nPlease RSVP: http://floralandhardyofskippack.com/events/279/kids-animal-pot-workshop/
X-ALT-DESC;FMTTYPE=text/html:<div style="text-align:justify"><span style="background-color:transparent\; color:rgb(0\, 0\, 0)\; font-family:lora\,times new roman\,times\,serif\; font-size:13px">Looking for a summer kids activity?&nbsp\; Join us for this fun workshop where we combine art with gardening.&nbsp\; We&rsquo\;ll help your kids paint their favorite animal theme on a 6 &rdquo\; flower pot!&nbsp\; They can then finish off their design by adding a colorful plant.&nbsp\; Cost is $10.&nbsp\; Bring a smock or old t-shirt to wear.</span></div>\n\n<div>&nbsp\;</div>\n\n<div><span style="background-color:transparent\; color:rgb(0\, 0\, 0)\; font-family:lora\,times new roman\,times\,serif\; font-size:13px">Please RSVP:&nbsp\;<a href="http://floralandhardyofskippack.com/events/279/kids-animal-pot-workshop/">http://floralandhardyofskippack.com/events/279/kids-animal-pot-workshop/</a></span></div>\n
LOCATION:Floral & Hardy 4007 Skippack Pike Skippack\, PA 19474
UID:e.2385.7846
SEQUENCE:3
DTSTAMP:20260421T214418Z
URL:https://business.chambergmc.org/events/details/floral-hardy-kids-animal-pot-workshop-7846
END:VEVENT

END:VCALENDAR
