BEGIN:VCALENDAR
VERSION:2.0
PRODID:-//ChamberMaster//Event Calendar 2.0//EN
METHOD:PUBLISH
X-PUBLISHED-TTL:P3D
REFRESH-INTERVAL:P3D
CALSCALE:GREGORIAN
BEGIN:VEVENT
DTSTART:20180616T140000Z
DTEND:20180616T150000Z
X-MICROSOFT-CDO-ALLDAYEVENT:FALSE
SUMMARY:Floral & Hardy - Kids Birdbath Making Workshop
DESCRIPTION:Have your kids create their own birdbath! First\, we gather the pots and paint them. Finally\, after they dry\, we add the top saucer and welcome our feathered friends. Watch them take a bath and get a drink during the hot summer months. Cost is $15.  Bring a smock or wear old clothing that's suitable for painting. \n\n \n\nPlease RSVP: http://floralandhardyofskippack.com/events/263/kids-birdbath-making-workshop/
X-ALT-DESC;FMTTYPE=text/html:<div style="text-align:justify"><span style="font-size:14px"><span style="font-family:arial\,helvetica\,sans-serif"><span style="background-color:transparent\; color:rgb(0\, 0\, 0)">Have your kids create their own birdbath! First\, we gather the pots and paint them. Finally\, after they dry\, we add the top saucer and welcome our feathered friends. Watch them take a bath and get a drink during the hot summer months. Cost is $15.&nbsp\; Bring a smock or wear old clothing that&rsquo\;s suitable for painting. </span></span></span><br />\n&nbsp\;</div>\n\n<div><span style="font-size:14px"><span style="font-family:arial\,helvetica\,sans-serif"><span style="background-color:transparent\; color:rgb(0\, 0\, 0)">Please RSVP:&nbsp\;<a href="http://floralandhardyofskippack.com/events/263/kids-birdbath-making-workshop/">http://floralandhardyofskippack.com/events/263/kids-birdbath-making-workshop/</a></span></span></span></div>\n
LOCATION:Floral & Hardy 4007 Skippack Pike Skippack\, PA 19474
UID:e.2385.6643
SEQUENCE:3
DTSTAMP:20260421T201945Z
URL:https://business.chambergmc.org/events/details/floral-hardy-kids-birdbath-making-workshop-06-16-2018-6643
END:VEVENT

END:VCALENDAR
