BEGIN:VCALENDAR
VERSION:2.0
PRODID:-//ChamberMaster//Event Calendar 2.0//EN
METHOD:PUBLISH
X-PUBLISHED-TTL:P3D
REFRESH-INTERVAL:P3D
CALSCALE:GREGORIAN
BEGIN:VEVENT
DTSTART:20190716T223000Z
DTEND:20190719T000000Z
X-MICROSOFT-CDO-ALLDAYEVENT:FALSE
SUMMARY:Floral & Hardy Kids Comedy Theater and Movement Workshop
DESCRIPTION:July 16th and July 18th   6:30 to 8:00 p.m.\n\nJoin us for this new kids workshop where we'll explore some of the ways that comedy is performed.  Your kids will learn how to write and deliver a joke! They'll also discover how to enhance their words\, using comedic movement.  Have your kids build confidence with this fun and creative class!! Perfect for ages 6 and up.  Our instructor\, Alene Kraus\, will provide loads of laughter during this unique workshop.  Cost is $20.\n\nNote: there will be a show for parents on Thursday\, July 18th at 7:15 p.m.\n\nPlease RSVP: https://floralandhardyofskippack.com/events/kids-comedy-theater-and-movement-workshop/
X-ALT-DESC;FMTTYPE=text/html:<p style="margin-left:0px\; margin-right:0px\; text-align:left"><span style="font-family:arial\,helvetica\,sans-serif"><strong>July 16th and July 18th &ndash\; 6:30 to 8:00 p.m.</strong></span></p>\n\n<p style="margin-left:0px\; margin-right:0px\; text-align:justify"><span style="font-family:arial\,helvetica\,sans-serif">Join us for this new kids workshop where we&rsquo\;ll explore some of the ways that comedy is performed.&nbsp\; Your kids will learn how to write and deliver a joke! They&rsquo\;ll also discover how to enhance their words\, using comedic movement.&nbsp\; Have your kids build confidence with this fun and creative class!! Perfect for ages 6 and up.&nbsp\; Our instructor\, Alene Kraus\, will provide loads of laughter during this unique workshop.&nbsp\; Cost is $20.</span></p>\n\n<p style="margin-left:0px\; margin-right:0px\; text-align:justify"><span style="font-family:arial\,helvetica\,sans-serif"><strong>Note: there will be a show for parents on Thursday\, July 18th at 7:15 p.m.</strong></span></p>\n\n<p style="margin-left:0px\; margin-right:0px\; text-align:justify"><span style="font-family:arial\,helvetica\,sans-serif">Please RSVP:&nbsp\;<a href="https://floralandhardyofskippack.com/events/kids-comedy-theater-and-movement-workshop/">https://floralandhardyofskippack.com/events/kids-comedy-theater-and-movement-workshop/</a></span></p>\n
LOCATION:Floral & Hardy 4007 Skippack Pike Skippack\, PA 19474
UID:e.2385.8820
SEQUENCE:3
DTSTAMP:20260422T141338Z
URL:https://business.chambergmc.org/events/details/floral-hardy-kids-comedy-theater-and-movement-workshop-8820
END:VEVENT

END:VCALENDAR
