BEGIN:VCALENDAR
VERSION:2.0
PRODID:-//ChamberMaster//Event Calendar 2.0//EN
METHOD:PUBLISH
X-PUBLISHED-TTL:P3D
REFRESH-INTERVAL:P3D
CALSCALE:GREGORIAN
BEGIN:VEVENT
DTSTART:20191026T140000Z
DTEND:20191026T150000Z
X-MICROSOFT-CDO-ALLDAYEVENT:FALSE
SUMMARY:Floral & Hardy Kids Halloween Mini Garden Workshop
DESCRIPTION:Join us for a Kids Halloween Theme Workshop! Have your kids make their own mini garden using miniature succulent plants and decorative fall items.  We'll supply the pot\, soil\, plants and toppings.  Kids can wear their Halloween costume (optional) and join in some gardening fun! We'll have free treats for them\, too!! Cost is $20 plus tax. \n\n\nPlease RSVP: \n\nhttps://floralandhardyofskippack.com/events/kids-halloween-mini-garden-workshop/
X-ALT-DESC;FMTTYPE=text/html:<div style="text-align: justify\;"><span style="background-color:rgb(252\, 249\, 244)\; color:rgb(0\, 0\, 0)\; font-family:arial\,helvetica\,sans-serif">Join us for a Kids Halloween Theme Workshop! Have your kids make their own mini garden using miniature succulent plants and decorative fall items.&nbsp\; We&rsquo\;ll supply the pot\, soil\, plants and toppings.&nbsp\; Kids can wear their Halloween costume (optional) and join in some gardening fun! We&rsquo\;ll have free treats for them\, too!! Cost is $20 plus tax. </span></div>\n<br />\n<span style="background-color:rgb(252\, 249\, 244)\; color:rgb(0\, 0\, 0)\; font-family:arial\,helvetica\,sans-serif">Please RSVP:&nbsp\;<br />\n<a href="https://floralandhardyofskippack.com/events/kids-halloween-mini-garden-workshop/">https://floralandhardyofskippack.com/events/kids-halloween-mini-garden-workshop/</a></span>
LOCATION:Floral & Hardy 4007 Skippack Pike Skippack\, PA 19474
UID:e.2385.10101
SEQUENCE:3
DTSTAMP:20260423T170547Z
URL:https://business.chambergmc.org/events/details/floral-hardy-kids-halloween-mini-garden-workshop-10-26-2019-10101
END:VEVENT

END:VCALENDAR
