BEGIN:VCALENDAR
VERSION:2.0
PRODID:-//ChamberMaster//Event Calendar 2.0//EN
METHOD:PUBLISH
X-PUBLISHED-TTL:P3D
REFRESH-INTERVAL:P3D
CALSCALE:GREGORIAN
BEGIN:VEVENT
DTSTART:20181027T140000Z
DTEND:20181027T150000Z
X-MICROSOFT-CDO-ALLDAYEVENT:FALSE
SUMMARY:Floral & Hardy Kids Halloween Mini Garden Workshop
DESCRIPTION:NEW Kids Halloween Theme Workshop!   Have your kids make their own mini garden using miniature plants and decorative items.  Choose from one of 3 festive pre-painted container designs!  Kids can wear their Halloween costume (optional) and join in some gardening fun.  We'll have some free treats for them!  Cost is $20.\n\n \n\nPlease RSVP: http://floralandhardyofskippack.com/events/302/kids-halloween-mini-garden-workshop/
X-ALT-DESC;FMTTYPE=text/html:<div style="text-align:justify"><span style="font-size:12px"><span style="background-color:transparent\; color:rgb(0\, 0\, 0)\; font-family:arial\,helvetica\,sans-serif">NEW Kids Halloween Theme Workshop! &nbsp\; Have your kids make their own mini garden using miniature plants and decorative items.&nbsp\; Choose from one of 3 festive pre-painted container designs!&nbsp\; Kids can wear their Halloween costume (optional) and join in some gardening fun.&nbsp\; We&rsquo\;ll have some free treats for them!&nbsp\; Cost is $20.</span></span><br />\n&nbsp\;</div>\n\n<div><span style="font-size:12px"><span style="background-color:transparent\; color:rgb(0\, 0\, 0)\; font-family:arial\,helvetica\,sans-serif">Please RSVP:&nbsp\;<a href="http://floralandhardyofskippack.com/events/302/kids-halloween-mini-garden-workshop/">http://floralandhardyofskippack.com/events/302/kids-halloween-mini-garden-workshop/</a></span></span></div>\n
LOCATION:Floral & Hardy 4007 Skippack Pike Skippack\, PA 19474
UID:e.2385.8018
SEQUENCE:3
DTSTAMP:20260422T014633Z
URL:https://business.chambergmc.org/events/details/floral-hardy-kids-halloween-mini-garden-workshop-8018
END:VEVENT

END:VCALENDAR
