BEGIN:VCALENDAR
VERSION:2.0
PRODID:-//ChamberMaster//Event Calendar 2.0//EN
METHOD:PUBLISH
X-PUBLISHED-TTL:P3D
REFRESH-INTERVAL:P3D
CALSCALE:GREGORIAN
BEGIN:VEVENT
DTSTART:20171211T140000Z
DTEND:20171217T220000Z
X-MICROSOFT-CDO-ALLDAYEVENT:FALSE
SUMMARY:Floral & Hardy Kids Holiday Mug Workshop Week
DESCRIPTION:Bring the kids to F&H and we'll help them make a holiday mug.  Each child will have the chance to add fresh greens\, bells\, and other festive items.   It's the perfect holiday gift for teachers and family members. Cost is $10.
X-ALT-DESC;FMTTYPE=text/html:Bring the kids to F&amp\;H&nbsp\;and&nbsp\;we&rsquo\;ll help them&nbsp\;make a holiday mug.&nbsp\; Each child will have the chance to add fresh greens\, bells\, and other festive items. &nbsp\; It&rsquo\;s the perfect holiday gift for teachers and family members.&nbsp\;Cost is $10.<br />\n<br />\n&nbsp\;
LOCATION:Floral & Hardy of Skippack 4007 Skippack Pike Skippack\, PA 19474
UID:e.2385.2655
SEQUENCE:3
DTSTAMP:20260421T123122Z
URL:https://business.chambergmc.org/events/details/floral-hardy-kids-holiday-mug-workshop-week-12-11-2017-2655
END:VEVENT

END:VCALENDAR
