BEGIN:VCALENDAR
VERSION:2.0
PRODID:-//ChamberMaster//Event Calendar 2.0//EN
METHOD:PUBLISH
X-PUBLISHED-TTL:P3D
REFRESH-INTERVAL:P3D
CALSCALE:GREGORIAN
BEGIN:VEVENT
DTSTART:20191214T150000Z
DTEND:20191215T210000Z
X-MICROSOFT-CDO-ALLDAYEVENT:FALSE
SUMMARY:Floral & Hardy Kids Holiday Mug Workshop Weekend
DESCRIPTION:Bring the kids to Floral & Hardy and we'll help them make a holiday mug.  They'll have the chance to add fresh greens and other festive items.   It's the perfect holiday gift for teachers and family members! Cost is $10.  Stop by anytime from 10 a.m. to 4:00 p.m. on Saturday (12/14) or Sunday (12/15).  \n\n\nPlease RSVP:\n\n https://floralandhardyofskippack.com/events/kids-holiday-mug-workshop-weekend/
X-ALT-DESC;FMTTYPE=text/html:<div style="text-align: justify\;"><span style="color:rgb(71\, 71\, 71)\; font-family:arial\,helvetica\,sans-serif\; font-size:14px">Bring the kids to Floral &amp\; Hardy and&nbsp\;we&rsquo\;ll help them&nbsp\;make a holiday mug.&nbsp\; They&rsquo\;ll&nbsp\;</span><span style="color:rgb(71\, 71\, 71)\; font-family:arial\,helvetica\,sans-serif\; font-size:14px">have the chance to add fresh greens and other festive items. &nbsp\; It&rsquo\;s the perfect holiday gift for teachers and family members! Cost is $10.&nbsp\; Stop by anytime from 10 a.m. to 4:00 p.m. on Saturday (12/14) or Sunday (12/15).&nbsp\;</span>&nbsp\;</div>\n<br />\nPlease RSVP:<br />\n&nbsp\;<a href="https://floralandhardyofskippack.com/events/kids-holiday-mug-workshop-weekend/">https://floralandhardyofskippack.com/events/kids-holiday-mug-workshop-weekend/</a>
LOCATION:Floral & Hardy 4007 Skippack Pike Skippack\, PA 19474
UID:e.2385.10174
SEQUENCE:3
DTSTAMP:20260423T150113Z
URL:https://business.chambergmc.org/events/details/floral-hardy-kids-holiday-mug-workshop-weekend-12-14-2019-10174
END:VEVENT

END:VCALENDAR
