BEGIN:VCALENDAR
VERSION:2.0
PRODID:-//ChamberMaster//Event Calendar 2.0//EN
METHOD:PUBLISH
X-PUBLISHED-TTL:P3D
REFRESH-INTERVAL:P3D
CALSCALE:GREGORIAN
BEGIN:VEVENT
DTSTART:20181215T150000Z
DTEND:20181216T210000Z
X-MICROSOFT-CDO-ALLDAYEVENT:FALSE
SUMMARY:Floral & Hardy Kids Holiday Mug Workshop Weekend
DESCRIPTION:Bring the kids to Floral & Hardy and we'll help them make a holiday mug.  They'll have the chance to add fresh greens and other festive items.   It's the perfect holiday gift for teachers and family members! Cost is $10.  Stop by anytime from 10 a.m. to 4:00 p.m. on Saturday (12/15) or Sunday (12/16). \n\n\nPlease RSVP: http://floralandhardyofskippack.com/events/315/kids-holiday-mug-workshop-weekend/
X-ALT-DESC;FMTTYPE=text/html:<div style="text-align: justify\;"><span style="background-color:transparent\; color:rgb(0\, 0\, 0)\; font-family:lora\,&amp\; font-size:13px">Bring the kids to Floral &amp\; Hardy and&nbsp\;we&rsquo\;ll help them&nbsp\;make a holiday mug.&nbsp\; They&rsquo\;ll </span><span style="background-color:transparent\; color:rgb(0\, 0\, 0)\; font-family:lora\,times new roman\,times\,serif\; font-size:13px">have the chance to add fresh greens and other festive items. &nbsp\; It&rsquo\;s the perfect holiday gift for teachers and family members! Cost is $10.&nbsp\; Stop by anytime from 10 a.m. to 4:00 p.m. on Saturday (12/15) or Sunday (12/16).&nbsp\;</span></div>\n<br />\nPlease RSVP:&nbsp\;<a href="http://floralandhardyofskippack.com/events/315/kids-holiday-mug-workshop-weekend/">http://floralandhardyofskippack.com/events/315/kids-holiday-mug-workshop-weekend/</a>
LOCATION:Floral & Hardy 4007 Skippack Pike Skippack\, PA 19474
UID:e.2385.8071
SEQUENCE:3
DTSTAMP:20260422T053629Z
URL:https://business.chambergmc.org/events/details/floral-hardy-kids-holiday-mug-workshop-weekend-8071
END:VEVENT

END:VCALENDAR
