BEGIN:VCALENDAR
VERSION:2.0
PRODID:-//ChamberMaster//Event Calendar 2.0//EN
METHOD:PUBLISH
X-PUBLISHED-TTL:P3D
REFRESH-INTERVAL:P3D
CALSCALE:GREGORIAN
BEGIN:VEVENT
DTSTART:20190627T224500Z
DTEND:20190627T233000Z
X-MICROSOFT-CDO-ALLDAYEVENT:FALSE
SUMMARY:Floral & Hardy Kids Kan You Kazoo Workshop
DESCRIPTION:Kan you kazoo? Yes you can! Join us at Floral & Hardy of Skippack for this fun new kids workshop.  We'll teach you how to build your own kazoo and become part of our KAZOO BAND!  Ages 6 and up.  Cost is $15 for all supplies.  Our energetic instructor\, Alene Kraus\, will provide loads of laughter and fun during this unique workshop. \n\n\nPlease RSVP: https://floralandhardyofskippack.com/events/kids-kan-you-kazoo-workshop/
X-ALT-DESC;FMTTYPE=text/html:<div style="text-align: justify\;"><span style="background-color:transparent\; color:rgb(0\, 0\, 0)\; font-family:arial\,helvetica\,sans-serif\; font-size:13px">Kan you kazoo? Yes you can! Join us at Floral &amp\; Hardy of Skippack for this fun new kids workshop.&nbsp\; We&rsquo\;ll teach you how to build your own kazoo and become part of our KAZOO BAND!&nbsp\; Ages 6 and up.&nbsp\; Cost is $15 for all supplies.&nbsp\; Our energetic instructor\, Alene Kraus\, will provide loads of laughter and fun during this unique workshop. </span></div>\n<br />\n<span style="background-color:transparent\; color:rgb(0\, 0\, 0)\; font-family:arial\,helvetica\,sans-serif\; font-size:13px">Please RSVP:&nbsp\;<a href="https://floralandhardyofskippack.com/events/kids-kan-you-kazoo-workshop/">https://floralandhardyofskippack.com/events/kids-kan-you-kazoo-workshop/</a></span>
LOCATION:Floral & Hardy 4007 Skippack Pike Skippack\, PA 19474
UID:e.2385.8797
SEQUENCE:3
DTSTAMP:20260422T141335Z
URL:https://business.chambergmc.org/events/details/floral-hardy-kids-kan-you-kazoo-workshop-8797
END:VEVENT

END:VCALENDAR
