BEGIN:VCALENDAR
VERSION:2.0
PRODID:-//ChamberMaster//Event Calendar 2.0//EN
METHOD:PUBLISH
X-PUBLISHED-TTL:P3D
REFRESH-INTERVAL:P3D
CALSCALE:GREGORIAN
BEGIN:VEVENT
DTSTART:20180127T150000Z
DTEND:20180127T160000Z
X-MICROSOFT-CDO-ALLDAYEVENT:FALSE
SUMMARY:Floral & Hardy Kids Mini Garden Workshop I
DESCRIPTION:Get the kids into gardening this winter with our fun mini gardening workshop!  Have them use their imagination to design and build a miniature garden with tiny plants and cool objects.  Cost is $20.  Please bring a box to take your creation home.\n\n\n\nPlease RSVP: http://floralandhardyofskippack.com/events/203/kids-mini-garden-workshop-i/
X-ALT-DESC;FMTTYPE=text/html:<span style="background-color:transparent\; color:rgb(0\, 0\, 0)\; font-family:lora\,times new roman\,times\,serif\; font-size:13px">Get the kids into gardening this winter with our fun mini gardening workshop!&nbsp\; Have them use their imagination to design and build a miniature garden with tiny plants and cool objects.&nbsp\; Cost is $20.&nbsp\; Please bring a box to take your creation home.<br />\n<br />\nPlease RSVP:&nbsp\;<a href="http://floralandhardyofskippack.com/events/203/kids-mini-garden-workshop-i/">http://floralandhardyofskippack.com/events/203/kids-mini-garden-workshop-i/</a></span><br />\n&nbsp\;
LOCATION:Floral & Hardy 4007 Skippack Pike Skippack\, PA 19474
UID:e.2385.3022
SEQUENCE:3
DTSTAMP:20260421T150458Z
URL:https://business.chambergmc.org/events/details/floral-hardy-kids-mini-garden-workshop-i-01-27-2018-3022
END:VEVENT

END:VCALENDAR
