BEGIN:VCALENDAR
VERSION:2.0
PRODID:-//ChamberMaster//Event Calendar 2.0//EN
METHOD:PUBLISH
X-PUBLISHED-TTL:P3D
REFRESH-INTERVAL:P3D
CALSCALE:GREGORIAN
BEGIN:VEVENT
DTSTART:20190119T190000Z
DTEND:20190119T200000Z
X-MICROSOFT-CDO-ALLDAYEVENT:FALSE
SUMMARY:Floral & Hardy Kids Mini Garden Workshop II
DESCRIPTION:Get the kids into gardening this winter at F&H with this fun workshop!  Have them use their imagination to design a miniature garden using succulents\, cool mini objects and colored sand.  We'll provide the pot\, plants\, soil\, sand and up to 3 mini objects.  Cost is $20 plus tax (total of $21.20). \n\nPlease RSVP: \n\nhttp://floralandhardyofskippack.com/events/kids-mini-garden-workshop-ii/
X-ALT-DESC;FMTTYPE=text/html:<div style="text-align:justify"><span style="background-color:transparent\; color:rgb(0\, 0\, 0)\; font-family:arial\,helvetica\,sans-serif\; font-size:13px">Get the kids into gardening this winter at F&amp\;H with this fun workshop!&nbsp\; Have them use their imagination to design a miniature garden using succulents\, cool mini objects and colored sand.&nbsp\; We&rsquo\;ll provide the pot\, plants\, soil\, sand and up to 3 mini objects.&nbsp\; Cost is $20 plus tax (total of $21.20).&nbsp\;</span><br />\n<span style="font-family:arial\,helvetica\,sans-serif">Please RSVP:&nbsp\;</span></div>\n\n<div><a href="http://floralandhardyofskippack.com/events/kids-mini-garden-workshop-ii/">http://floralandhardyofskippack.com/events/kids-mini-garden-workshop-ii/</a></div>\n
LOCATION:Floral & Hardy 4007 Skippack Pike Skippack\, PA 19474
UID:e.2385.8125
SEQUENCE:3
DTSTAMP:20260422T053644Z
URL:https://business.chambergmc.org/events/details/floral-hardy-kids-mini-garden-workshop-ii-8125
END:VEVENT

END:VCALENDAR
