BEGIN:VCALENDAR
VERSION:2.0
PRODID:-//ChamberMaster//Event Calendar 2.0//EN
METHOD:PUBLISH
X-PUBLISHED-TTL:P3D
REFRESH-INTERVAL:P3D
CALSCALE:GREGORIAN
BEGIN:VEVENT
DTSTART:20191026T150000Z
DTEND:20191026T160000Z
X-MICROSOFT-CDO-ALLDAYEVENT:FALSE
SUMMARY:Floral & Hardy Kids Mini Pumpkin Succulent Workshop
DESCRIPTION:Have your kids make their own mini pumpkin decoration! Just in time for Halloween!! They'll be able to choose from a variety of colorful mini pumpkins and succulent tops.  We'll help them make their own design\, using decorative fall items. Kids can wear their Halloween costumes (optional) and we'll have treats for them\, too!  Cost is $20 plus tax. \n\n\nPlease RSVP: https://floralandhardyofskippack.com/events/kids-mini-pumpkin-succulent-workshop/
X-ALT-DESC;FMTTYPE=text/html:<div style="text-align: justify\;"><span style="background-color:rgb(252\, 249\, 244)\; color:rgb(0\, 0\, 0)\; font-family:lora\,times new roman\,times\,serif">Have your kids make their own mini pumpkin decoration! Just in time for Halloween!! They&rsquo\;ll be able to choose from a variety of colorful mini pumpkins and succulent tops.&nbsp\; We&rsquo\;ll help them make their own design\, using decorative fall items. Kids can wear their Halloween costumes (optional) and we&rsquo\;ll have treats for them\, too!&nbsp\; Cost is $20 plus tax. </span></div>\n<br />\n<span style="background-color:rgb(252\, 249\, 244)\; color:rgb(0\, 0\, 0)\; font-family:lora\,times new roman\,times\,serif">Please RSVP:&nbsp\;<a href="https://floralandhardyofskippack.com/events/kids-mini-pumpkin-succulent-workshop/">https://floralandhardyofskippack.com/events/kids-mini-pumpkin-succulent-workshop/</a></span>
LOCATION:Floral & Hardy 4007 Skippack Pike Skippack\, PA 19474
UID:e.2385.10149
SEQUENCE:3
DTSTAMP:20260423T165819Z
URL:https://business.chambergmc.org/events/details/floral-hardy-kids-mini-pumpkin-succulent-workshop-10149
END:VEVENT

END:VCALENDAR
