BEGIN:VCALENDAR
VERSION:2.0
PRODID:-//ChamberMaster//Event Calendar 2.0//EN
METHOD:PUBLISH
X-PUBLISHED-TTL:P3D
REFRESH-INTERVAL:P3D
CALSCALE:GREGORIAN
BEGIN:VEVENT
DTSTART:20200118T150000Z
DTEND:20200118T160000Z
X-MICROSOFT-CDO-ALLDAYEVENT:FALSE
SUMMARY:Floral & Hardy Kids Mini Terrarium Workshop
DESCRIPTION:Looking for a fun indoor winter activity? Bring the kids to F&H where they can build their own miniature garden!  We'll help them design a small terrarium using mini succulent plants\, decorative stones and moss.  They'll have fun using their imagination to create a personalized indoor garden!  Cost is $20.\n\n\n\nPlease RSVP: https://floralandhardyofskippack.com/events/kids-mini-terrarium-workshop/
X-ALT-DESC;FMTTYPE=text/html:<span style="color:rgb(71\, 71\, 71)\; font-family:arial\,helvetica\,sans-serif\; font-size:14px">Looking for a fun indoor winter activity? Bring the kids to F&amp\;H where they can build their own miniature garden!&nbsp\; We&rsquo\;ll help them design a small terrarium using mini succulent plants\, decorative stones and moss.&nbsp\; They&rsquo\;ll have fun using their imagination to create a personalized indoor garden!&nbsp\; Cost is $20.<br />\n<br />\nPlease RSVP:&nbsp\;<a href="https://floralandhardyofskippack.com/events/kids-mini-terrarium-workshop/">https://floralandhardyofskippack.com/events/kids-mini-terrarium-workshop/</a></span>
LOCATION:Floral & Hardy 4007 Skippack Pike Skippack\, PA 19474
UID:e.2385.10212
SEQUENCE:3
DTSTAMP:20260423T132938Z
URL:https://business.chambergmc.org/events/details/floral-hardy-kids-mini-terrarium-workshop-10212
END:VEVENT

END:VCALENDAR
