BEGIN:VCALENDAR
VERSION:2.0
PRODID:-//ChamberMaster//Event Calendar 2.0//EN
METHOD:PUBLISH
X-PUBLISHED-TTL:P3D
REFRESH-INTERVAL:P3D
CALSCALE:GREGORIAN
BEGIN:VEVENT
DTSTART:20180203T190000Z
DTEND:20180203T200000Z
X-MICROSOFT-CDO-ALLDAYEVENT:FALSE
SUMMARY:Floral & Hardy Kids Seed Starting Pizza Party
DESCRIPTION:Bring your kids and join us for our annual seed starting pizza party! They can enjoy a slice of pizza while learning about starting seeds that relate to pizza   we'll plant some basil\, oregano\, thyme\, etc. Have your kids watch the seeds grow into plants in time for spring.  Cost is $10 per child.\n\n\n\nPlease RSVP: http://floralandhardyofskippack.com/events/210/kids-seed-starting-pizza-party/
X-ALT-DESC;FMTTYPE=text/html:<span style="background-color:transparent\; color:rgb(0\, 0\, 0)\; font-family:lora\,times new roman\,times\,serif\; font-size:13px">Bring your kids and join us for our annual seed starting pizza party! They can enjoy a slice of pizza while learning about starting seeds that relate to pizza &ndash\; we&rsquo\;ll plant some basil\, oregano\, thyme\, etc. Have your kids watch the seeds grow into plants in time for spring.&nbsp\; Cost is $10 per child.<br />\n<br />\nPlease RSVP:&nbsp\;<a href="http://floralandhardyofskippack.com/events/210/kids-seed-starting-pizza-party/">http://floralandhardyofskippack.com/events/210/kids-seed-starting-pizza-party/</a></span>
LOCATION:Floral & Hardy 4007 Skippack Pike Skippack\, PA 19474
UID:e.2385.3024
SEQUENCE:3
DTSTAMP:20260421T150538Z
URL:https://business.chambergmc.org/events/details/floral-hardy-kids-seed-starting-pizza-party-02-03-2018-3024
END:VEVENT

END:VCALENDAR
