BEGIN:VCALENDAR
VERSION:2.0
PRODID:-//ChamberMaster//Event Calendar 2.0//EN
METHOD:PUBLISH
X-PUBLISHED-TTL:P3D
REFRESH-INTERVAL:P3D
CALSCALE:GREGORIAN
BEGIN:VEVENT
DTSTART:20190209T170000Z
DTEND:20190209T180000Z
X-MICROSOFT-CDO-ALLDAYEVENT:FALSE
SUMMARY:Floral & Hardy Kids Seed Starting Pizza Party
DESCRIPTION:Bring your kids and join us for our annual seed starting pizza party! They can enjoy a slice of pizza while learning about starting seeds.  We'll plant herbs and veggies that can be used as pizza toppings such as basil\, oregano\, peppers and tomatoes.  Have your kids watch the seeds grow into plants in time for spring!  Cost is $12.\n\n\n\nPlease.RSVP: http://floralandhardyofskippack.com/events/kids-seed-starting-pizza-party/
X-ALT-DESC;FMTTYPE=text/html:<span style="background-color:transparent\; color:rgb(0\, 0\, 0)\; font-family:lora\,times new roman\,times\,serif\; font-size:13px">Bring your kids and join us for our annual seed starting pizza party! They can enjoy a slice of pizza while learning about starting seeds.&nbsp\; We&rsquo\;ll plant herbs and veggies that can be used as pizza toppings such as basil\, oregano\, peppers and tomatoes.&nbsp\; Have your kids watch the seeds grow into plants in time for spring!&nbsp\; Cost is $12.<br />\n<br />\nPlease.RSVP:&nbsp\;<a href="http://floralandhardyofskippack.com/events/kids-seed-starting-pizza-party/">http://floralandhardyofskippack.com/events/kids-seed-starting-pizza-party/</a></span><br />\n&nbsp\;
LOCATION:Floral & Hardy 4007 Skippack Pike Skippack\, PA 19474
UID:e.2385.8130
SEQUENCE:3
DTSTAMP:20260422T070906Z
URL:https://business.chambergmc.org/events/details/floral-hardy-kids-seed-starting-pizza-party-8130
END:VEVENT

END:VCALENDAR
