BEGIN:VCALENDAR
VERSION:2.0
PRODID:-//ChamberMaster//Event Calendar 2.0//EN
METHOD:PUBLISH
X-PUBLISHED-TTL:P3D
REFRESH-INTERVAL:P3D
CALSCALE:GREGORIAN
BEGIN:VEVENT
DTSTART:20180207T140000Z
DTEND:20180214T210000Z
X-MICROSOFT-CDO-ALLDAYEVENT:FALSE
SUMMARY:Floral & Hardy Kids Valentine's Day Mug Workshop Week
DESCRIPTION:Have your kids show their love with a plant in a mug! This fun activity allows kids to make their own personalized Valentine's Day gift.  They'll be able to choose from an assortment of  Valentine's Day mugs and miniature plants.  This is the perfect gift for Mom\, Dad\, or a grandparent.  Cost is $10 per mug.\n\n\n\nPlease RSVP: http://floralandhardyofskippack.com/events/211/kids-valentines-day-mug-workshop-week/
X-ALT-DESC;FMTTYPE=text/html:<span style="background-color:transparent\; color:rgb(0\, 0\, 0)\; font-family:lora\,times new roman\,times\,serif\; font-size:13px">Have your kids show their love with a plant in a mug! This fun activity allows kids to make their own personalized Valentine&rsquo\;s Day gift.&nbsp\; They&rsquo\;ll be able to choose from an assortment of&nbsp\; Valentine&rsquo\;s Day mugs and miniature plants.&nbsp\; This is the perfect gift for Mom\, Dad\, or a grandparent.&nbsp\; Cost is $10 per mug.<br />\n<br />\nPlease RSVP:&nbsp\;<a href="http://floralandhardyofskippack.com/events/211/kids-valentines-day-mug-workshop-week/">http://floralandhardyofskippack.com/events/211/kids-valentines-day-mug-workshop-week/</a></span>
LOCATION:Floral & Hardy 4007 Skippack Pike Skippack\, PA 19474
UID:e.2385.3025
SEQUENCE:3
DTSTAMP:20260421T150513Z
URL:https://business.chambergmc.org/events/details/floral-hardy-kids-valentine-s-day-mug-workshop-week-02-07-2018-3025
END:VEVENT

END:VCALENDAR
