BEGIN:VCALENDAR
VERSION:2.0
PRODID:-//ChamberMaster//Event Calendar 2.0//EN
METHOD:PUBLISH
X-PUBLISHED-TTL:P3D
REFRESH-INTERVAL:P3D
CALSCALE:GREGORIAN
BEGIN:VEVENT
DTSTART:20190207T150000Z
DTEND:20190207T210000Z
X-MICROSOFT-CDO-ALLDAYEVENT:FALSE
SUMMARY:Floral & Hardy Kids Valentine's Day Mug Workshop Week Feb 7 - Feb 14
DESCRIPTION:Have your kids make their own personalized Valentine's Day gift!  We'll help them pot a plant in a mug and add some decorative items. Perfect gift for Mom\, Dad\, or a grandparent!!  Stop by anytime from 10 a.m. to 4 p.m. from 2/7   2/14.  Cost is $10 per mug (feel free to make more than one). \n\n \nPlease RSVP: https://floralandhardyofskippack.com/events/kids-valentines-day-mug-workshop-week/
X-ALT-DESC;FMTTYPE=text/html:<div style="text-align:justify"><span style="background-color:transparent\; color:rgb(0\, 0\, 0)\; font-family:arial\,helvetica\,sans-serif\; font-size:13px">Have your kids make their own personalized Valentine&rsquo\;s Day gift!&nbsp\; We&rsquo\;ll help them pot a plant in a mug and add some decorative items. Perfect gift for Mom\, Dad\, or a grandparent!!&nbsp\; Stop by anytime from 10 a.m. to 4 p.m. from 2/7 &ndash\; 2/14.&nbsp\; Cost is $10 per mug (feel free to make more than one). </span><br />\n&nbsp\;</div>\n<span style="background-color:transparent\; color:rgb(0\, 0\, 0)\; font-family:arial\,helvetica\,sans-serif\; font-size:13px">Please RSVP:&nbsp\;<a href="https://floralandhardyofskippack.com/events/kids-valentines-day-mug-workshop-week/">https://floralandhardyofskippack.com/events/kids-valentines-day-mug-workshop-week/</a></span>
LOCATION:Floral & Hardy 4007 Skippack Pike Skippack\, PA 19474
UID:e.2385.8173
SEQUENCE:3
DTSTAMP:20260422T071136Z
URL:https://business.chambergmc.org/events/details/floral-hardy-kids-valentine-s-day-mug-workshop-week-feb-7-feb-14-8173
END:VEVENT

END:VCALENDAR
