BEGIN:VCALENDAR
VERSION:2.0
PRODID:-//ChamberMaster//Event Calendar 2.0//EN
METHOD:PUBLISH
X-PUBLISHED-TTL:P3D
REFRESH-INTERVAL:P3D
CALSCALE:GREGORIAN
BEGIN:VEVENT
DTSTART:20190523T223000Z
DTEND:20190523T233000Z
X-MICROSOFT-CDO-ALLDAYEVENT:FALSE
SUMMARY:Floral & Hardy Kitchen Herb Garden Container Workshop I
DESCRIPTION:Create your own kitchen herb garden during this fun workshop! Place your container in a sunny spot on a kitchen windowsill or patio and snip herbs as needed for cooking.  It's a convenient way to enjoy fresh herbs with your favorite dishes!! We'll help you select your herbs and give you tips about mixing and matching them.  Herbs plants\, soil\, pebbles for drainage and container will be provided.  Cost is $39 plus tax.  \n\n\nPlease RSVP: https://floralandhardyofskippack.com/events/kitchen-herb-garden-container-workshop-i/
X-ALT-DESC;FMTTYPE=text/html:<div style="text-align: justify\;"><span style="background-color:transparent\; color:rgb(0\, 0\, 0)\; font-family:arial\,helvetica\,sans-serif\; font-size:13px">Create your own kitchen herb garden during this fun workshop! Place your container in a sunny spot on a kitchen windowsill or patio and snip herbs as needed for cooking.&nbsp\; It&rsquo\;s a convenient way to enjoy fresh herbs with your favorite dishes!! We&rsquo\;ll help you select your herbs and give you tips about mixing and matching them.&nbsp\; Herbs plants\, soil\, pebbles for drainage and container will be provided.&nbsp\; Cost is $39 plus tax.&nbsp\; </span></div>\n<br />\n<span style="background-color:transparent\; color:rgb(0\, 0\, 0)\; font-family:arial\,helvetica\,sans-serif\; font-size:13px">Please RSVP:&nbsp\;<a href="https://floralandhardyofskippack.com/events/kitchen-herb-garden-container-workshop-i/">https://floralandhardyofskippack.com/events/kitchen-herb-garden-container-workshop-i/</a></span>
LOCATION:Floral & Hardy 4007 Skippack Pike Skippack\, PA 19474
UID:e.2385.8678
SEQUENCE:3
DTSTAMP:20260422T111848Z
URL:https://business.chambergmc.org/events/details/floral-hardy-kitchen-herb-garden-container-workshop-i-8678
END:VEVENT

END:VCALENDAR
