BEGIN:VCALENDAR
VERSION:2.0
PRODID:-//ChamberMaster//Event Calendar 2.0//EN
METHOD:PUBLISH
X-PUBLISHED-TTL:P3D
REFRESH-INTERVAL:P3D
CALSCALE:GREGORIAN
BEGIN:VEVENT
DTSTART:20180531T223000Z
DTEND:20180531T233000Z
X-MICROSOFT-CDO-ALLDAYEVENT:FALSE
SUMMARY:Floral & Hardy - Kokedama Workshop I
DESCRIPTION:Join us for this fun workshop and create your own Kokedama hanging plant!  Kokedama is an ancient Japanese art that consists of potting up plants in a ball of moss and displaying them suspended in air.  The Kokedama plant is easy to make and take care of!  Cost per Kokedama is $15.\n\n\n\nPlease RSVP: http://floralandhardyofskippack.com/events/248/kokedama-workshop-i/
X-ALT-DESC;FMTTYPE=text/html:<span style="background-color:transparent\; color:rgb(0\, 0\, 0)\; font-family:lora\,times new roman\,times\,serif\; font-size:13px">Join us for this fun workshop and create your own Kokedama hanging plant!&nbsp\; Kokedama is an ancient Japanese art that consists of potting up plants in a ball of moss and displaying them suspended in air.&nbsp\; The Kokedama plant is easy to make and take care of!&nbsp\; Cost per Kokedama is $15.<br />\n<br />\nPlease RSVP:&nbsp\;<a href="http://floralandhardyofskippack.com/events/248/kokedama-workshop-i/">http://floralandhardyofskippack.com/events/248/kokedama-workshop-i/</a></span>
LOCATION:Floral & Hardy 4007 Skippack Pike Skippack\, PA 19474
UID:e.2385.4290
SEQUENCE:3
DTSTAMP:20260421T202130Z
URL:https://business.chambergmc.org/events/details/floral-hardy-kokedama-workshop-i-05-31-2018-4290
END:VEVENT

END:VCALENDAR
