BEGIN:VCALENDAR
VERSION:2.0
PRODID:-//ChamberMaster//Event Calendar 2.0//EN
METHOD:PUBLISH
X-PUBLISHED-TTL:P3D
REFRESH-INTERVAL:P3D
CALSCALE:GREGORIAN
BEGIN:VEVENT
DTSTART:20180607T223000Z
DTEND:20180607T233000Z
X-MICROSOFT-CDO-ALLDAYEVENT:FALSE
SUMMARY:Floral & Hardy - Kokedama Workshop II
DESCRIPTION:Join us for this fun workshop and create your own Kokedama hanging plant!  Kokedama is an ancient Japanese art that consists of potting up plants in a ball of moss and displaying them suspended in air.  The Kokedama plant is easy to make and take care of!  Cost per Kokedama is $15.\n\n\nPlease RSVP: http://floralandhardyofskippack.com/events/249/kokedama-workshop-ii/
X-ALT-DESC;FMTTYPE=text/html:<div style="text-align: justify\;"><span style="background-color:transparent\; color:rgb(0\, 0\, 0)\; font-family:lora\,times new roman\,times\,serif\; font-size:13px">Join us for this fun workshop and create your own Kokedama hanging plant!&nbsp\; Kokedama is an ancient Japanese art that consists of potting up plants in a ball of moss and displaying them suspended in air.&nbsp\; The Kokedama plant is easy to make and take care of!&nbsp\; Cost per Kokedama is $15.</span></div>\n<br />\n<span style="background-color:transparent\; color:rgb(0\, 0\, 0)\; font-family:lora\,times new roman\,times\,serif\; font-size:13px">Please RSVP:&nbsp\;<a href="http://floralandhardyofskippack.com/events/249/kokedama-workshop-ii/">http://floralandhardyofskippack.com/events/249/kokedama-workshop-ii/</a></span>
LOCATION:Floral & Hardy 4007 Skippack Pike Skippack\, PA 19474
UID:e.2385.4291
SEQUENCE:3
DTSTAMP:20260421T214439Z
URL:https://business.chambergmc.org/events/details/floral-hardy-kokedama-workshop-ii-06-07-2018-4291
END:VEVENT

END:VCALENDAR
