BEGIN:VCALENDAR
VERSION:2.0
PRODID:-//ChamberMaster//Event Calendar 2.0//EN
METHOD:PUBLISH
X-PUBLISHED-TTL:P3D
REFRESH-INTERVAL:P3D
CALSCALE:GREGORIAN
BEGIN:VEVENT
DTSTART:20180609T140000Z
DTEND:20180609T150000Z
X-MICROSOFT-CDO-ALLDAYEVENT:FALSE
SUMMARY:Floral & Hardy - Kokedama Workshop III
DESCRIPTION:Join us for this fun workshop and create your own Kokedama hanging plant!  Kokedama is an ancient Japanese art that consists of potting up plants in a ball of moss and displaying them suspended in air.  The Kokedama plant is easy to make and take care of!  Cost per Kokedama is $15. \n\n\nPlease RSVP: http://floralandhardyofskippack.com/events/250/kokedama-workshop-iii/
X-ALT-DESC;FMTTYPE=text/html:<div style="text-align:justify"><span style="font-size:11px"><span style="background-color:transparent\; color:rgb(0\, 0\, 0)\; font-family:lora\,times new roman\,times\,serif">Join us for this fun workshop and create your own Kokedama hanging plant!&nbsp\; Kokedama is an ancient Japanese art that consists of potting up plants in a ball of moss and displaying them suspended in air.&nbsp\; The Kokedama plant is easy to make and take care of!&nbsp\; Cost per Kokedama is $15. </span></span></div>\n<br />\n<span style="font-size:11px"><span style="background-color:transparent\; color:rgb(0\, 0\, 0)\; font-family:lora\,times new roman\,times\,serif">Please RSVP:&nbsp\;<a href="http://floralandhardyofskippack.com/events/250/kokedama-workshop-iii/">http://floralandhardyofskippack.com/events/250/kokedama-workshop-iii/</a></span></span>
LOCATION:Floral & Hardy 4007 Skippack Pike Skippack\, PA 19474
UID:e.2385.4292
SEQUENCE:3
DTSTAMP:20260421T214417Z
URL:https://business.chambergmc.org/events/details/floral-hardy-kokedama-workshop-iii-06-09-2018-4292
END:VEVENT

END:VCALENDAR
