BEGIN:VCALENDAR
VERSION:2.0
PRODID:-//ChamberMaster//Event Calendar 2.0//EN
METHOD:PUBLISH
X-PUBLISHED-TTL:P3D
REFRESH-INTERVAL:P3D
CALSCALE:GREGORIAN
BEGIN:VEVENT
DTSTART:20180603T160000Z
DTEND:20180603T180000Z
X-MICROSOFT-CDO-ALLDAYEVENT:FALSE
SUMMARY:Floral & Hardy Lavender Day
DESCRIPTION:Join us at Floral & Hardy  of Skippack for a special Lavender Day event\, co-hosted by the Body Serene Day Spa.  We're featuring lavender\, an herb well known for its health benefits\, beautiful color and soothing aroma. Lavender is also a great pollinator plant\, attracting many bees and butterflies to gardens.  We'll kick off this FREE event by serving lavender tea\, lemonade and cookies at noon.  Lavender products will be available for purchase including: plants\, candles\, food items\, lotions\, soaps\, oils\, eye pillows\, neck wraps\, etc.  Pick up a free give-away lavender sachet when you leave (first come\, first serve)! \n\n\nPlease RSVP: http://floralandhardyofskippack.com/events/258/lavender-day/
X-ALT-DESC;FMTTYPE=text/html:<div style="text-align:justify"><span style="background-color:transparent\; color:rgb(0\, 0\, 0)\; font-family:lora\,times new roman\,times\,serif\; font-size:13px">J<span style="font-size:12px"><span style="font-family:arial\,helvetica\,sans-serif">oin us at&nbsp\;Floral &amp\; Hardy&nbsp\; of Skippack for a special Lavender Day event\, co-hosted by the Body Serene Day Spa.&nbsp\; We&rsquo\;re featuring lavender\, an herb well known for its health benefits\, beautiful color and soothing aroma. Lavender is also a great pollinator plant\, attracting many bees and butterflies to&nbsp\;gardens.&nbsp\; We&rsquo\;ll kick off this&nbsp\;FREE event by serving lavender tea\, lemonade and cookies at noon.&nbsp\; Lavender products will be available for purchase including: plants\, candles\, food items\, lotions\, soaps\, oils\, eye pillows\, neck wraps\, etc.&nbsp\;&nbsp\;Pick up&nbsp\;a free give-away lavender sachet when you leave (first come\, first serve)! </span></span></span></div>\n<br />\n<span style="font-size:12px"><span style="font-family:arial\,helvetica\,sans-serif"><span style="background-color:transparent\; color:rgb(0\, 0\, 0)">Please RSVP:&nbsp\;<a href="http://floralandhardyofskippack.com/events/258/lavender-day/">http://floralandhardyofskippack.com/events/258/lavender-day/</a></span></span></span>
LOCATION:Floral & Hardy 4007 Skippack Pike Skippack\, PA 19474
UID:e.2385.6587
SEQUENCE:3
DTSTAMP:20260421T214439Z
URL:https://business.chambergmc.org/events/details/floral-hardy-lavender-day-06-03-2018-6587
END:VEVENT

END:VCALENDAR
