BEGIN:VCALENDAR
VERSION:2.0
PRODID:-//ChamberMaster//Event Calendar 2.0//EN
METHOD:PUBLISH
X-PUBLISHED-TTL:P3D
REFRESH-INTERVAL:P3D
CALSCALE:GREGORIAN
BEGIN:VEVENT
DTSTART:20180629T223000Z
DTEND:20180630T000000Z
X-MICROSOFT-CDO-ALLDAYEVENT:FALSE
SUMMARY:Floral & Hardy - Lavender Ladies Night
DESCRIPTION:Grab your friends and join us for a Lavender Make & Take Ladies Night!! Learn about the benefits of lavender essential oil and have fun making 3 lavender beauty products: eyelash growth serum\, lip balm and face serum.  Enjoy complimentary wine and lavender short bread cookies (feel free to bring your own beverage).  Browse around our garden center and gift shop   we'll have lavender plants and dried lavender for sale. Cost is $25 per person. \n\nLimited spots are available! Please RSVP: http://floralandhardyofskippack.com/events/274/lavender-ladies-night/
X-ALT-DESC;FMTTYPE=text/html:<p style="margin-left:0px\; margin-right:0px\; text-align:justify">Grab your friends and join us for a Lavender Make &amp\; Take Ladies Night!! Learn about the benefits of lavender essential oil and have fun making 3 lavender beauty products: eyelash growth serum\, lip balm and face serum.&nbsp\; Enjoy complimentary wine and lavender short bread cookies (feel free to bring your own beverage).&nbsp\; Browse around our garden center and gift shop &ndash\; we&rsquo\;ll have lavender plants and dried lavender for sale. Cost is $25 per person.<span style="background-color:transparent\; color:rgb(51\, 51\, 51)\; font-family:georgia\,&amp\; font-size:16px">&nbsp\;</span></p>\n\n<p style="margin-left:0px\; margin-right:0px">Limited spots are available! Please RSVP:&nbsp\;<a href="http://floralandhardyofskippack.com/events/274/lavender-ladies-night/">http://floralandhardyofskippack.com/events/274/lavender-ladies-night/</a></p>\n
LOCATION:Floral & Hardy 4007 Skippack Pike Skippack\, PA 19474
UID:e.2385.7715
SEQUENCE:3
DTSTAMP:20260421T202129Z
URL:https://business.chambergmc.org/events/details/floral-hardy-lavender-ladies-night-7715
END:VEVENT

END:VCALENDAR
