BEGIN:VCALENDAR
VERSION:2.0
PRODID:-//ChamberMaster//Event Calendar 2.0//EN
METHOD:PUBLISH
X-PUBLISHED-TTL:P3D
REFRESH-INTERVAL:P3D
CALSCALE:GREGORIAN
BEGIN:VEVENT
DTSTART:20190712T223000Z
DTEND:20190713T000000Z
X-MICROSOFT-CDO-ALLDAYEVENT:FALSE
SUMMARY:Floral & Hardy Lavender Ladies Night Make & Take
DESCRIPTION:Grab your friends and join us for a Lavender Ladies Night Make & Take activity with lavender essential oil!! Learn about the benefits of lavender and have fun making 3 lavender beauty products: lavender linen spray\, itch stick and after sun spray.  We'll also be giving a short presentation about Young Living Essential Oils during our Make & Take activity.  Have fun sampling different oils afterwards!\n\nEnjoy complimentary wine and snacks (feel free to bring your own favorite beverage).  Come early to browse around our garden center and gift shop.  Cost is $25 plus tax.\n\n\n\nPlease RSVP: https://floralandhardyofskippack.com/events/lavender-ladies-night/
X-ALT-DESC;FMTTYPE=text/html:<p style="text-align: justify\; margin-right: 0px\; margin-left: 0px\;"><span style="font-family:arial\,helvetica\,sans-serif">Grab your friends and join us for a Lavender Ladies Night Make &amp\; Take activity with lavender essential oil!! Learn about the benefits of lavender and have fun making 3 lavender beauty products: lavender linen spray\, itch stick and after sun spray.&nbsp\; We&rsquo\;ll also be giving a short presentation about Young Living Essential Oils during our Make &amp\; Take activity.&nbsp\; Have fun sampling different oils afterwards!</span></p>\n\n<p style="text-align: justify\; margin-right: 0px\; margin-left: 0px\;"><span style="font-family:arial\,helvetica\,sans-serif">Enjoy complimentary wine and snacks (feel free to bring your own favorite beverage).&nbsp\; Come early to browse around our garden center and gift shop.&nbsp\; Cost is $25 plus tax.</span></p>\n\n<p style="margin-left:0px\; margin-right:0px\; text-align:justify"><br />\n<span style="font-family:arial\,helvetica\,sans-serif">Please RSVP:&nbsp\;<a href="https://floralandhardyofskippack.com/events/lavender-ladies-night/">https://floralandhardyofskippack.com/events/lavender-ladies-night/</a></span></p>\n
LOCATION:Floral & Hardy 4007 Skippack Pike Skippack\, PA 19474
UID:e.2385.8822
SEQUENCE:3
DTSTAMP:20260422T141337Z
URL:https://business.chambergmc.org/events/details/floral-hardy-lavender-ladies-night-make-take-07-12-2019-8822
END:VEVENT

END:VCALENDAR
