BEGIN:VCALENDAR
VERSION:2.0
PRODID:-//ChamberMaster//Event Calendar 2.0//EN
METHOD:PUBLISH
X-PUBLISHED-TTL:P3D
REFRESH-INTERVAL:P3D
CALSCALE:GREGORIAN
BEGIN:VEVENT
DTSTART:20180921T220000Z
DTEND:20180921T233000Z
X-MICROSOFT-CDO-ALLDAYEVENT:FALSE
SUMMARY:Floral & Hardy Lavender Ladies Night Make & Take
DESCRIPTION:Grab your girlfriends and join us for a lavender make & take class during Skippack Girls Night Out! Enjoy complimentary wine and have fun making 3 lavender essential oil products: lavender\, lemon & peppermint (LLP) roller\, lavender pillow spray and lavender sugar scrub.  We'll have a presentation about the many benefits of  essential oils and how to use them while we're making our goodies.  Cost is $25 per person. \n\n\nPlease RSVP: http://floralandhardyofskippack.com/events/300/lavender-ladies-night-make-take/
X-ALT-DESC;FMTTYPE=text/html:<div style="text-align: justify\;"><span style="background-color:transparent\; color:rgb(0\, 0\, 0)\; font-family:lora\,times new roman\,times\,serif\; font-size:13px"><span style="font-size:12px"><span style="font-family:arial\,helvetica\,sans-serif">Grab your girlfriends and join us for a lavender make &amp\; take class during Skippack Girls Night Out! Enjoy complimentary wine and have fun making 3 lavender essential oil products: lavender\, lemon &amp\; peppermint (LLP) roller\, lavender pillow spray and lavender sugar scrub.&nbsp\; We&rsquo\;ll have a presentation about the many benefits of&nbsp\; essential oils and how to use them while we&rsquo\;re making our goodies.&nbsp\; Cost is $25 per person. </span></span></span></div>\n<br />\n<span style="background-color:transparent\; color:rgb(0\, 0\, 0)\; font-family:lora\,times new roman\,times\,serif\; font-size:13px"><span style="font-size:12px"><span style="font-family:arial\,helvetica\,sans-serif">Please RSVP:&nbsp\;<a href="http://floralandhardyofskippack.com/events/300/lavender-ladies-night-make-take/">http://floralandhardyofskippack.com/events/300/lavender-ladies-night-make-take/</a></span></span></span>
LOCATION:Floral & Hardy 4007 Skippack Pike Skippack\, PA 19474
UID:e.2385.8001
SEQUENCE:3
DTSTAMP:20260422T003816Z
URL:https://business.chambergmc.org/events/details/floral-hardy-lavender-ladies-night-make-take-8001
END:VEVENT

END:VCALENDAR
