BEGIN:VCALENDAR
VERSION:2.0
PRODID:-//ChamberMaster//Event Calendar 2.0//EN
METHOD:PUBLISH
X-PUBLISHED-TTL:P3D
REFRESH-INTERVAL:P3D
CALSCALE:GREGORIAN
BEGIN:VEVENT
DTSTART:20180509T223000Z
DTEND:20180509T233000Z
X-MICROSOFT-CDO-ALLDAYEVENT:FALSE
SUMMARY:Floral & Hardy - Living with Deer in our Gardens
DESCRIPTION:Many of us continually attempt to outsmart the white-tail deer who browse through our gardens all year long.  Join us for this FREE wine & cheese class to learn about some techniques that repel deer and plant selections that may be less appealing to them.  Please share ideas that have worked in your own gardens with the group.  Presentation will be given by Penn State Master Gardener\, Karrie Hontz. \n\n\nPlease RSVP: http://floralandhardyofskippack.com/events/239/living-with-deer-in-our-gardens/
X-ALT-DESC;FMTTYPE=text/html:<div style="text-align:justify"><span style="background-color:transparent\; color:rgb(0\, 0\, 0)\; font-family:lora\,times new roman\,times\,serif\; font-size:13px">Many of us continually attempt to outsmart the white-tail deer who browse through our gardens all year long.&nbsp\; Join us for this FREE wine &amp\; cheese class to learn about some techniques that repel deer and plant selections that may be less appealing to them.&nbsp\; Please share ideas that have worked in your own gardens with the group.&nbsp\; Presentation will be given by Penn State Master Gardener\, Karrie Hontz.&nbsp\;</span></div>\n<br />\n<span style="background-color:transparent\; color:rgb(0\, 0\, 0)\; font-family:lora\,times new roman\,times\,serif\; font-size:13px">Please RSVP:&nbsp\;<a href="http://floralandhardyofskippack.com/events/239/living-with-deer-in-our-gardens/">http://floralandhardyofskippack.com/events/239/living-with-deer-in-our-gardens/</a></span>
LOCATION:Floral & Hardy 4007 Skippack Pike Skippack\, PA 19474
UID:e.2385.3275
SEQUENCE:3
DTSTAMP:20260421T191114Z
URL:https://business.chambergmc.org/events/details/floral-hardy-living-with-deer-in-our-gardens-05-09-2018-3275
END:VEVENT

END:VCALENDAR
