BEGIN:VCALENDAR
VERSION:2.0
PRODID:-//ChamberMaster//Event Calendar 2.0//EN
METHOD:PUBLISH
X-PUBLISHED-TTL:P3D
REFRESH-INTERVAL:P3D
CALSCALE:GREGORIAN
BEGIN:VEVENT
DTSTART:20180712T220000Z
DTEND:20180713T000000Z
X-MICROSOFT-CDO-ALLDAYEVENT:FALSE
SUMMARY:Floral & Hardy Macrame Hanging Planter Workshop I
DESCRIPTION:Learn how to make your own textural piece of art!  Master a couple of basic macram  knots and create your own plant hanger.  We'll give you step-by-step instructions and all of the materials you'll need.  Finish off your design with a succulent or foliage plant in a 6  pot.  Cost is $39: includes materials & potted plant.  This event is PRE-PAY only and BYOB.  \n\nPlease RSVP: http://floralandhardyofskippack.com/events/277/macrame-hanging-planter-workshop-i/
X-ALT-DESC;FMTTYPE=text/html:<div style="text-align:justify"><span style="background-color:transparent\; color:rgb(0\, 0\, 0)\; font-family:lora\,times new roman\,times\,serif\; font-size:13px">Learn how to make your own textural piece of art!&nbsp\; Master a couple of basic macram&eacute\; knots and create your own plant hanger.&nbsp\; We&rsquo\;ll give you step-by-step instructions and all of the materials you&rsquo\;ll need.&nbsp\; Finish off your design with a succulent or foliage plant in a 6&Prime\; pot.&nbsp\; Cost is $39: includes materials &amp\; potted plant.&nbsp\; This event is PRE-PAY only and BYOB.&nbsp\;&nbsp\;</span></div>\n\n<div>Please RSVP:&nbsp\;<a href="http://floralandhardyofskippack.com/events/277/macrame-hanging-planter-workshop-i/">http://floralandhardyofskippack.com/events/277/macrame-hanging-planter-workshop-i/</a></div>\n
LOCATION:Floral & Hardy 4007 Skippack Pike Skippack\, PA 19474
UID:e.2385.7840
SEQUENCE:3
DTSTAMP:20260421T214100Z
URL:https://business.chambergmc.org/events/details/floral-hardy-macrame-hanging-planter-workshop-i-7840
END:VEVENT

END:VCALENDAR
