BEGIN:VCALENDAR
VERSION:2.0
PRODID:-//ChamberMaster//Event Calendar 2.0//EN
METHOD:PUBLISH
X-PUBLISHED-TTL:P3D
REFRESH-INTERVAL:P3D
CALSCALE:GREGORIAN
BEGIN:VEVENT
DTSTART:20180201T233000Z
DTEND:20180202T003000Z
X-MICROSOFT-CDO-ALLDAYEVENT:FALSE
SUMMARY:Floral & Hardy Mason Jar Succulent Workshop I
DESCRIPTION:Make a succulent terrarium inside a mason jar during this fun workshop at Floral & Hardy of Skippack!  We'll have all the necessary supplies for you\, including: mason jar\, stones\, sand\, soil\, moss\, little objects\, and  mini succulents.   Cost is $20 per person. \n\nPlease RSVP: http://floralandhardyofskippack.com/events/208/mason-jar-succulent-workshop-i/
X-ALT-DESC;FMTTYPE=text/html:<p style="text-align:justify">Make a succulent terrarium inside a mason jar during this fun workshop at Floral &amp\; Hardy of Skippack!&nbsp\; We&#39\;ll have all the necessary supplies for you\, including: mason jar\, stones\, sand\, soil\, moss\, little objects\, and&nbsp\; mini succulents. &nbsp\; Cost is $20 per person.&nbsp\;</p>\n\n<p style="text-align:justify">Please RSVP:&nbsp\;<a href="http://floralandhardyofskippack.com/events/208/mason-jar-succulent-workshop-i/">http://floralandhardyofskippack.com/events/208/mason-jar-succulent-workshop-i/</a><br />\n&nbsp\;</p>\n
LOCATION:Floral & Hardy of Skippack 4007 Skippack Pike Skippack\, PA 19474
UID:e.2385.3020
SEQUENCE:3
DTSTAMP:20260421T150226Z
URL:https://business.chambergmc.org/events/details/floral-hardy-mason-jar-succulent-workshop-i-02-01-2018-3020
END:VEVENT

END:VCALENDAR
