BEGIN:VCALENDAR
VERSION:2.0
PRODID:-//ChamberMaster//Event Calendar 2.0//EN
METHOD:PUBLISH
X-PUBLISHED-TTL:P3D
REFRESH-INTERVAL:P3D
CALSCALE:GREGORIAN
BEGIN:VEVENT
DTSTART:20180208T233000Z
DTEND:20180209T003000Z
X-MICROSOFT-CDO-ALLDAYEVENT:FALSE
SUMMARY:Floral & Hardy Mason Jar Succulent Workshop II
DESCRIPTION:Make a succulent terrarium inside a mason jar during this fun workshop!  We'll have all the necessary supplies for you\, including: mason jar\, stones\, sand\, soil\, moss\, little objects\, and  mini succulents.   Cost is $20 per person. \n\n\n\nPlease RSVP: http://floralandhardyofskippack.com/events/209/mason-jar-succulent-workshop-ii/
X-ALT-DESC;FMTTYPE=text/html:<span style="background-color:transparent\; color:rgb(0\, 0\, 0)\; font-family:lora\,times new roman\,times\,serif\; font-size:13px">Make a succulent terrarium inside a mason jar during this fun workshop!&nbsp\; We&rsquo\;ll have all the necessary supplies for you\, including: mason jar\, stones\, sand\, soil\, moss\, little objects\, and&nbsp\; mini succulents. &nbsp\; Cost is $20 per person.&nbsp\;<br />\n<br />\nPlease RSVP:&nbsp\;<a href="http://floralandhardyofskippack.com/events/209/mason-jar-succulent-workshop-ii/">http://floralandhardyofskippack.com/events/209/mason-jar-succulent-workshop-ii/</a></span><br />\n&nbsp\;
LOCATION:Floral & Hardy 4007 Skippack Pike Skippack\, PA 19474
UID:e.2385.3021
SEQUENCE:3
DTSTAMP:20260421T162412Z
URL:https://business.chambergmc.org/events/details/floral-hardy-mason-jar-succulent-workshop-ii-02-08-2018-3021
END:VEVENT

END:VCALENDAR
