BEGIN:VCALENDAR
VERSION:2.0
PRODID:-//ChamberMaster//Event Calendar 2.0//EN
METHOD:PUBLISH
X-PUBLISHED-TTL:P3D
REFRESH-INTERVAL:P3D
CALSCALE:GREGORIAN
BEGIN:VEVENT
DTSTART:20190302T150000Z
DTEND:20190302T160000Z
X-MICROSOFT-CDO-ALLDAYEVENT:FALSE
SUMMARY:Floral & Hardy Mason Jar Succulent Workshop II
DESCRIPTION:Make a miniature succulent terrarium inside a mason jar during this fun workshop!  We'll have all the necessary supplies for you\, including: mason jar\, stones\, sand\, soil\, moss\, decorative object and mini succulents.   Cost is $20 per person plus tax (total of $21.20).  \n\nPlease RSVP: \n\nhttps://floralandhardyofskippack.com/events/mason-jar-succulent-workshop-ii/
X-ALT-DESC;FMTTYPE=text/html:<div style="text-align:justify"><span style="background-color:transparent\; color:rgb(0\, 0\, 0)\; font-family:lora\,times new roman\,times\,serif\; font-size:13px">Make a miniature succulent terrarium inside a mason jar during this fun workshop!&nbsp\; We&rsquo\;ll have all the necessary supplies for you\, including: mason jar\, stones\, sand\, soil\, moss\, decorative object and mini succulents. &nbsp\; Cost is $20 per person plus tax (total of $21.20).&nbsp\;</span>&nbsp\;</div>\n\n<div>Please RSVP:&nbsp\;<br />\n<a href="https://floralandhardyofskippack.com/events/mason-jar-succulent-workshop-ii/">https://floralandhardyofskippack.com/events/mason-jar-succulent-workshop-ii/</a></div>\n
LOCATION:Floral & Hardy 4007 Skippack Pike Skippack\, PA 19474
UID:e.2385.8176
SEQUENCE:3
DTSTAMP:20260422T082816Z
URL:https://business.chambergmc.org/events/details/floral-hardy-mason-jar-succulent-workshop-ii-8176
END:VEVENT

END:VCALENDAR
