BEGIN:VCALENDAR
VERSION:2.0
PRODID:-//ChamberMaster//Event Calendar 2.0//EN
METHOD:PUBLISH
X-PUBLISHED-TTL:P3D
REFRESH-INTERVAL:P3D
CALSCALE:GREGORIAN
BEGIN:VEVENT
DTSTART:20180614T223000Z
DTEND:20180614T233000Z
X-MICROSOFT-CDO-ALLDAYEVENT:FALSE
SUMMARY:Floral & Hardy Mosaic Tile Workshop – Kids & Adults
DESCRIPTION:Learn how to create your own mosaic tile pot at this fun workshop.  We'll supply the materials and give you step-by-step instructions.  Both kids and adults are welcome!  Bring a box to carry your work of art home and dress appropriately (wear a smock or old clothes).  Cost is $15.\nPlease RSVP: http://floralandhardyofskippack.com/events/261/mosaic-tile-workshop-kids-adults/
X-ALT-DESC;FMTTYPE=text/html:<div style="text-align: justify\;"><span style="font-family:arial\,helvetica\,sans-serif"><span style="font-size:14px"><span style="background-color:transparent\; color:rgb(0\, 0\, 0)">Learn how to create your own mosaic tile pot at this fun workshop.&nbsp\; We&rsquo\;ll supply the materials and give you step-by-step instructions.&nbsp\; Both kids and adults are welcome!&nbsp\; Bring a box to carry your work of art home and dress appropriately (wear a smock or old clothes).&nbsp\; Cost is $15.</span></span></span></div>\n<span style="font-family:arial\,helvetica\,sans-serif"><span style="font-size:14px"><span style="background-color:transparent\; color:rgb(0\, 0\, 0)">Please RSVP:&nbsp\;<a href="http://floralandhardyofskippack.com/events/261/mosaic-tile-workshop-kids-adults/">http://floralandhardyofskippack.com/events/261/mosaic-tile-workshop-kids-adults/</a></span></span></span>
LOCATION:Floral & Hardy 4007 Skippack Pike Skippack\, PA 19474
UID:e.2385.6591
SEQUENCE:3
DTSTAMP:20260421T202244Z
URL:https://business.chambergmc.org/events/details/floral-hardy-mosaic-tile-workshop-kids-adults-06-14-2018-6591
END:VEVENT

END:VCALENDAR
