BEGIN:VCALENDAR
VERSION:2.0
PRODID:-//ChamberMaster//Event Calendar 2.0//EN
METHOD:PUBLISH
X-PUBLISHED-TTL:P3D
REFRESH-INTERVAL:P3D
CALSCALE:GREGORIAN
BEGIN:VEVENT
DTSTART:20180624T180000Z
DTEND:20180624T190000Z
X-MICROSOFT-CDO-ALLDAYEVENT:FALSE
SUMMARY:Floral & Hardy Mother/Daughter Tea Tasting Workshop
DESCRIPTION:Join us at Floral & Hardy  for a special Mother/Daughter Tea Tasting event.  You'll be able to sample some delicious\, locally grown herbal teas such as lemon balm\, holy basil and mint. Sweetened\, kid-friendly versions will be available.   Nicole from Oma Herbal Teas will give a brief presentation about herbal teas. Next\, we'll pot a plant in a tea cup to take home. Cost is $15 per person for tea tasting and plant in a tea cup take-away. \n\n\nPlease RSVP: http://floralandhardyofskippack.com/events/265/motherdaughter-tea-tasting-workshop/
X-ALT-DESC;FMTTYPE=text/html:<div style="text-align:justify"><span style="font-size:12px"><span style="font-family:arial\,helvetica\,sans-serif"><span style="background-color:transparent\; color:rgb(0\, 0\, 0)">Join us at Floral &amp\; Hardy&nbsp\; for a special Mother/Daughter Tea Tasting event.&nbsp\; You&rsquo\;ll be able to sample some delicious\, locally grown herbal teas such as lemon balm\, holy basil and mint. Sweetened\, kid-friendly versions will be available. &nbsp\; Nicole from Oma Herbal Teas will give a brief presentation about herbal teas. Next\, we&rsquo\;ll pot a plant in a tea cup to take home. Cost is $15 per person for tea tasting and plant in a tea cup take-away. </span></span></span></div>\n<br />\n<span style="font-size:12px"><span style="font-family:arial\,helvetica\,sans-serif"><span style="background-color:transparent\; color:rgb(0\, 0\, 0)">Please RSVP:&nbsp\;<a href="http://floralandhardyofskippack.com/events/265/motherdaughter-tea-tasting-workshop/">http://floralandhardyofskippack.com/events/265/motherdaughter-tea-tasting-workshop/</a></span></span></span>
LOCATION:Floral & Hardy 4007 Skippack Pike Skippack\, PA 19474
UID:e.2385.6659
SEQUENCE:3
DTSTAMP:20260421T203819Z
URL:https://business.chambergmc.org/events/details/floral-hardy-mother-daughter-tea-tasting-workshop-06-24-2018-6659
END:VEVENT

END:VCALENDAR
