BEGIN:VCALENDAR
VERSION:2.0
PRODID:-//ChamberMaster//Event Calendar 2.0//EN
METHOD:PUBLISH
X-PUBLISHED-TTL:P3D
REFRESH-INTERVAL:P3D
CALSCALE:GREGORIAN
BEGIN:VEVENT
DTSTART:20191201T170000Z
DTEND:20191201T180000Z
X-MICROSOFT-CDO-ALLDAYEVENT:FALSE
SUMMARY:Floral & Hardy Mrs. Claus Comes to Town
DESCRIPTION:Bring the kids to our 2nd annual visit with Mrs. Claus at Floral & Hardy. Mrs. Claus weaves storytelling\, a little Christmas magic\, a craft and song into a memorable and fun Christmas experience!  She'll also be serving Santa's favorite cookies!!  Ages 3 and up. Cost is $15 plus tax.\n\n\nPlease RSVP: https://floralandhardyofskippack.com/events/mrs-claus-comes-to-town/
X-ALT-DESC;FMTTYPE=text/html:<div style="text-align: justify\;"><span style="color:rgb(71\, 71\, 71)\; font-family:arial\,helvetica\,sans-serif\; font-size:14px">Bring the kids to our 2nd annual visit with Mrs. Claus at Floral &amp\; Hardy. Mrs. Claus weaves storytelling\, a little Christmas magic\, a craft and song into a memorable and fun Christmas experience!&nbsp\; She&rsquo\;ll also be serving Santa&rsquo\;s favorite cookies!!&nbsp\; Ages 3 and up. Cost is $15 plus tax.</span></div>\n<br />\n<span style="color:rgb(71\, 71\, 71)\; font-family:arial\,helvetica\,sans-serif\; font-size:14px">Please RSVP:&nbsp\;<a href="https://floralandhardyofskippack.com/events/mrs-claus-comes-to-town/">https://floralandhardyofskippack.com/events/mrs-claus-comes-to-town/</a></span>
LOCATION:Floral & Hardy 4007 Skippack Pike Skippack\, PA 19474
UID:e.2385.10175
SEQUENCE:3
DTSTAMP:20260423T145304Z
URL:https://business.chambergmc.org/events/details/floral-hardy-mrs-claus-comes-to-town-10175
END:VEVENT

END:VCALENDAR
