BEGIN:VCALENDAR
VERSION:2.0
PRODID:-//ChamberMaster//Event Calendar 2.0//EN
METHOD:PUBLISH
X-PUBLISHED-TTL:P3D
REFRESH-INTERVAL:P3D
CALSCALE:GREGORIAN
BEGIN:VEVENT
DTSTART:20191201T190000Z
DTEND:20191201T200000Z
X-MICROSOFT-CDO-ALLDAYEVENT:FALSE
SUMMARY:Floral & Hardy Mrs. Claus with Dogs
DESCRIPTION:Bring your pooch to Floral & Hardy for a free smooch with Mrs. Claus!  Take a memorable picture of Mrs. Claus with your dog and have them enjoy a treat.  All well behaved dogs get a coupon for shopping while they visit (one per person).  Don't miss this fun holiday event for our canine friends! \n\n\nPlease RSVP: \n\nhttps://floralandhardyofskippack.com/events/mrs-claus-with-dogs/
X-ALT-DESC;FMTTYPE=text/html:<div style="text-align: justify\;"><span style="color:rgb(71\, 71\, 71)\; font-family:arial\,helvetica\,sans-serif\; font-size:14px">Bring your pooch to Floral &amp\; Hardy for a free smooch with Mrs. Claus!&nbsp\; Take a memorable picture of Mrs. Claus with your dog and have them enjoy a treat.&nbsp\; All well behaved dogs get a coupon for shopping while they visit (one per person).&nbsp\; Don&rsquo\;t miss this fun holiday event for our canine friends! </span></div>\n<br />\n<span style="color:rgb(71\, 71\, 71)\; font-family:arial\,helvetica\,sans-serif\; font-size:14px">Please RSVP:&nbsp\;<br />\n<a href="https://floralandhardyofskippack.com/events/mrs-claus-with-dogs/">https://floralandhardyofskippack.com/events/mrs-claus-with-dogs/</a></span>
LOCATION:Floral & Hardy 4007 Skippack Pike Skippack\, PA 19474
UID:e.2385.10176
SEQUENCE:3
DTSTAMP:20260423T150113Z
URL:https://business.chambergmc.org/events/details/floral-hardy-mrs-claus-with-dogs-10176
END:VEVENT

END:VCALENDAR
