BEGIN:VCALENDAR
VERSION:2.0
PRODID:-//ChamberMaster//Event Calendar 2.0//EN
METHOD:PUBLISH
X-PUBLISHED-TTL:P3D
REFRESH-INTERVAL:P3D
CALSCALE:GREGORIAN
BEGIN:VEVENT
DTSTART:20190116T233000Z
DTEND:20190117T003000Z
X-MICROSOFT-CDO-ALLDAYEVENT:FALSE
SUMMARY:Floral & Hardy New Year\, New You Make & Take
DESCRIPTION:Join us for a fun ladies night out!  Make your own personal care products in a safe\, non-toxic way.  This year it's time to take care of YOU!  We'll be using Young Living essential oils to create our own face serum\, peppermint latte sugar scrub and our version of Burt's Bees lip balm.  Learn some basics about essential oils as you create your products.  Enjoy complimentary hot mulled wine or oil-infused water while you relax and socialize.  Cost is $30 plus tax (total of $31.80).  \n\n \n\nPlease RSVP: http://floralandhardyofskippack.com/events/new-year-new-you-make-take/
X-ALT-DESC;FMTTYPE=text/html:<div style="text-align: justify\;"><span style="background-color:transparent\; color:rgb(0\, 0\, 0)\; font-family:arial\,helvetica\,sans-serif\; font-size:13px">Join us for a fun ladies night out!&nbsp\; Make your own personal care products in a safe\, non-toxic way.&nbsp\; This year it&rsquo\;s time to take care of YOU!&nbsp\; We&rsquo\;ll be using Young Living essential oils to create our own face serum\, peppermint latte sugar scrub and our version of Burt&rsquo\;s Bees lip balm.&nbsp\; Learn some basics about essential oils as you create your products.&nbsp\; Enjoy complimentary hot mulled wine or oil-infused water while you relax and socialize.&nbsp\; Cost is $30 plus tax (total of $31.80).&nbsp\; </span><br />\n&nbsp\;</div>\n\n<div><span style="background-color:transparent\; color:rgb(0\, 0\, 0)\; font-family:arial\,helvetica\,sans-serif\; font-size:13px">Please RSVP:&nbsp\;<a href="http://floralandhardyofskippack.com/events/new-year-new-you-make-take/">http://floralandhardyofskippack.com/events/new-year-new-you-make-take/</a></span></div>\n
LOCATION:Floral & Hardy 4007 Skippack Pike Skippack\, PA 19474
UID:e.2385.8123
SEQUENCE:3
DTSTAMP:20260422T053710Z
URL:https://business.chambergmc.org/events/details/floral-hardy-new-year-new-you-make-take-8123
END:VEVENT

END:VCALENDAR
