BEGIN:VCALENDAR
VERSION:2.0
PRODID:-//ChamberMaster//Event Calendar 2.0//EN
METHOD:PUBLISH
X-PUBLISHED-TTL:P3D
REFRESH-INTERVAL:P3D
CALSCALE:GREGORIAN
BEGIN:VEVENT
DTSTART:20181208T150000Z
DTEND:20181208T163000Z
X-MICROSOFT-CDO-ALLDAYEVENT:FALSE
SUMMARY:Floral & Hardy of Skippack - Christmas Tree Centerpiece Workshop II
DESCRIPTION:Grab your friends and build a Christmas Tree Centerpiece!   We'll have everything you'll need to design and build your own 2  tabletop tree.  You can personalize your centerpiece with ribbons and ornaments (additional cost).  Perfect indoor holiday decoration!  Cost for the tree building is $45.  \n\nPlease RSVP: \nhttp://floralandhardyofskippack.com/events/313/christmas-tree-centerpiece-workshop-ii/
X-ALT-DESC;FMTTYPE=text/html:<div style="text-align: justify\;"><span style="background-color:transparent\; color:rgb(0\, 0\, 0)\; font-family:lora\,times new roman\,times\,serif\; font-size:13px">Grab your&nbsp\;friends and build a Christmas Tree Centerpiece!&nbsp\;&nbsp\; We&rsquo\;ll have everything you&rsquo\;ll need to design and build your own 2&prime\; tabletop tree. &nbsp\;You can personalize your centerpiece with ribbons and ornaments (additional cost).&nbsp\; Perfect indoor holiday decoration!&nbsp\; Cost&nbsp\;for the tree building is $45.&nbsp\;&nbsp\;</span></div>\n\n<div>Please RSVP:&nbsp\;</div>\n<a href="http://floralandhardyofskippack.com/events/313/christmas-tree-centerpiece-workshop-ii/">http://floralandhardyofskippack.com/events/313/christmas-tree-centerpiece-workshop-ii/</a>
LOCATION:Floral & Hardy 4007 Skippack Pike Skippack\, PA 19474
UID:e.2385.8085
SEQUENCE:3
DTSTAMP:20260422T041233Z
URL:https://business.chambergmc.org/events/details/floral-hardy-of-skippack-christmas-tree-centerpiece-workshop-ii-8085
END:VEVENT

END:VCALENDAR
