BEGIN:VCALENDAR
VERSION:2.0
PRODID:-//ChamberMaster//Event Calendar 2.0//EN
METHOD:PUBLISH
X-PUBLISHED-TTL:P3D
REFRESH-INTERVAL:P3D
CALSCALE:GREGORIAN
BEGIN:VEVENT
DTSTART:20181129T230000Z
DTEND:20181130T003000Z
X-MICROSOFT-CDO-ALLDAYEVENT:FALSE
SUMMARY:Floral & Hardy of Skippack - Holiday Kissing Ball Workshop I
DESCRIPTION:Create a vintage holiday kissing ball using fresh evergreens and berries.  Hang it over a doorway in your home or outdoors.  The kissing ball originated in the Middle Ages and is a symbol of holiday goodwill and romance.  Similar to mistletoe\, it's an invitation to be kissed! Cost is $35. Bring your own gardening gloves and pruners or purchase them at a discount. \n\nPlease RSVP: http://floralandhardyofskippack.com/events/309/holiday-kissing-ball-workshop-i/
X-ALT-DESC;FMTTYPE=text/html:<div style="text-align: justify\;"><span style="background-color:transparent\; color:rgb(0\, 0\, 0)\; font-family:lora\,times new roman\,times\,serif\; font-size:13px">Create a vintage holiday kissing ball using fresh evergreens and berries.&nbsp\; Hang it over a doorway in your home or outdoors.&nbsp\; The kissing ball originated in the Middle Ages and is a symbol of holiday goodwill and romance.&nbsp\; Similar to mistletoe\, it&rsquo\;s an invitation to be kissed! Cost is $35. Bring your own gardening gloves and pruners or purchase them at a discount.&nbsp\;</span></div>\n\n<div style="text-align: justify\;">Please RSVP:&nbsp\;<a href="http://floralandhardyofskippack.com/events/309/holiday-kissing-ball-workshop-i/">http://floralandhardyofskippack.com/events/309/holiday-kissing-ball-workshop-i/</a></div>\n
LOCATION:Floral & Hardy 4007 Skippack Pike Skippack\, PA 19474
UID:e.2385.8082
SEQUENCE:3
DTSTAMP:20260422T025806Z
URL:https://business.chambergmc.org/events/details/floral-hardy-of-skippack-holiday-kissing-ball-workshop-i-8082
END:VEVENT

END:VCALENDAR
