BEGIN:VCALENDAR
VERSION:2.0
PRODID:-//ChamberMaster//Event Calendar 2.0//EN
METHOD:PUBLISH
X-PUBLISHED-TTL:P3D
REFRESH-INTERVAL:P3D
CALSCALE:GREGORIAN
BEGIN:VEVENT
DTSTART:20181201T150000Z
DTEND:20181201T160000Z
X-MICROSOFT-CDO-ALLDAYEVENT:FALSE
SUMMARY:Floral & Hardy of Skippack - Winter Container Workshop I
DESCRIPTION:Make your own your winter container at this fun workshop!   We'll have everything you'll need to design and build your own front door masterpiece.  Choose from a variety of evergreens\, winterberry\, holly and other festive items.  Bring your own gardening gloves and pruners or purchase them from us at a discount.  This class is also offered at 2:00 p.m. so be sure to RSVP for the one that fits your schedule.  Cost range is $35 to $45.  We'll have 3 container styles to choose from.\n\nPlease RSVP:\n\nhttp://floralandhardyofskippack.com/events/307/winter-container-workshop-i/
X-ALT-DESC;FMTTYPE=text/html:<div style="text-align: justify\;"><span style="background-color:transparent\; color:rgb(0\, 0\, 0)\; font-family:georgia\,palatino\,serif\; font-size:13px">Make your own your winter container at this fun workshop!&nbsp\;&nbsp\; We&rsquo\;ll have everything you&rsquo\;ll need to design and build your own front door masterpiece.&nbsp\;&nbsp\;Choose from a variety of evergreens\, winterberry\,&nbsp\;holly and other festive items.&nbsp\; Bring your own gardening gloves and pruners or purchase them from us at a discount.&nbsp\; This class is also offered at 2:00 p.m. so be sure to RSVP for the one that fits your schedule.&nbsp\; Cost range is $35 to $45.&nbsp\; We&rsquo\;ll have 3 container styles to choose from.</span></div>\n\n<div><span style="background-color:transparent\; color:rgb(0\, 0\, 0)\; font-family:georgia\,palatino\,serif\; font-size:13px">Please RSVP:<br />\n<a href="http://floralandhardyofskippack.com/events/307/winter-container-workshop-i/">http://floralandhardyofskippack.com/events/307/winter-container-workshop-i/</a></span></div>\n
LOCATION:Floral & Hardy 4007 Skippack Pike Skippack\, PA 19474
UID:e.2385.8086
SEQUENCE:3
DTSTAMP:20260422T041147Z
URL:https://business.chambergmc.org/events/details/floral-hardy-of-skippack-winter-container-workshop-i-8086
END:VEVENT

END:VCALENDAR
